BEGIN:VCALENDAR
VERSION:2.0
PRODID:-//Events | FID-Recht//NONSGML Events//EN
CALSCALE:GREGORIAN
X-ORIGINAL-URL:https://events.intrecht.de/termine/
X-WR-CALDESC:Events | FID-Recht - Events
BEGIN:VEVENT
UID:20200603T1418Z-1591193923.3362-EO-587-1@172.16.200.141
STATUS:CONFIRMED
DTSTAMP:20260422T154500Z
CREATED:20240201T170924Z
LAST-MODIFIED:20240201T170924Z
DTSTART;VALUE=DATE:20240321
DTEND;VALUE=DATE:20240322
SUMMARY: Strategic Litigation and Corporate Complicity in Crimes Under Inte
 rnational Law – A TWAIL Analysis (Online Book Launch)
DESCRIPTION: 21.3.2024 / Online https://www.graduateinstitute.ch/communicat
 ions/events/book-launch-strategic-litigation-and-corporate-complicity-crime
 s-under
X-ALT-DESC;FMTTYPE=text/html: <p>21.3.2024 / Online</p><p><a href="https://
 www.graduateinstitute.ch/communications/events/book-launch-strategic-litiga
 tion-and-corporate-complicity-crimes-under">https://www.graduateinstitute.c
 h/communications/events/book-launch-strategic-litigation-and-corporate-comp
 licity-crimes-under</a></p><p>[av_button label='iCal-Export' link='./feed/e
 o-events' link_target='' size='small' position='center' label_display='' ti
 tle_attr='' icon_select='yes' icon='ue85b' font='entypo-fontello' color='cu
 stom' custom_bg='#b5123e' custom_font='#ffffff' av_uid='' id='' custom_clas
 s='' admin_preview_bg='']</p>
CATEGORIES:Europäisches / Internationales Recht
LOCATION:Online
GEO:0.000000;0.000000
ORGANIZER;CN="ViFa-Recht":MAILTO:vifa-recht@sbb.spk-berlin.de
URL;VALUE=URI:https://events.intrecht.de/termine/termin/strategic-litigatio
 n-and-corporate-complicity-in-crimes-under-international-law-a-twail-analys
 is-online-book-launch/
END:VEVENT
BEGIN:VTIMEZONE
TZID:Europe/Berlin
BEGIN:STANDARD
TZOFFSETFROM:+0200
TZOFFSETTO:+0100
DTSTART:20231029T010000
TZNAME:CET
END:STANDARD
END:VTIMEZONE
END:VCALENDAR
