BEGIN:VCALENDAR
VERSION:2.0
PRODID:-//Events | FID-Recht//NONSGML Events//EN
CALSCALE:GREGORIAN
X-ORIGINAL-URL:https://events.intrecht.de/termine/
X-WR-CALDESC:Events | FID-Recht - Events
BEGIN:VEVENT
UID:20220416T0542Z-1650087777.6695-EO-6516-1@172.16.200.141
STATUS:CONFIRMED
DTSTAMP:20260422T112049Z
CREATED:20220405T100628Z
LAST-MODIFIED:20220405T100628Z
DTSTART;VALUE=DATE:20220408
DTEND;VALUE=DATE:20220408
SUMMARY: Strategic Litigation — A New Phenomenon in Civil Litigation? (with
  Burkhard Hess) (Online-Seminar)
DESCRIPTION: 8.4.2022\, Luxemburg (Anmeldefrist: 5.4.2022) Strategic Litiga
 tion — A New Phenomenon in Civil Litigation? – Max Planck Law (mpg.de)  
X-ALT-DESC;FMTTYPE=text/html: <p>8.4.2022\, Luxemburg (Anmeldefrist: 5.4.20
 22)</p><p><a href="https://law.mpg.de/events/strategic-litigation-a-new-phe
 nomenon-in-civil-litigation/">Strategic Litigation — A New Phenomenon in Ci
 vil Litigation? - Max Planck Law (mpg.de)</a></p><p> </p><p>[av_button labe
 l='iCal-Export' link='./feed/eo-events' link_target='' size='small' positio
 n='center' label_display='' title_attr='' icon_select='yes' icon='ue85b' fo
 nt='entypo-fontello' color='custom' custom_bg='#b5123e' custom_font='#fffff
 f' av_uid='' id='' custom_class='' admin_preview_bg='']</p>
CATEGORIES:Zivilrecht
LOCATION:Ausland
GEO:0.000000;0.000000
ORGANIZER;CN="ViFa-Recht":MAILTO:vifa-recht@sbb.spk-berlin.de
URL;VALUE=URI:https://events.intrecht.de/termine/termin/strategic-litigatio
 n-a-new-phenomenon-in-civil-litigation-with-burkhard-hess-online-seminar/
END:VEVENT
BEGIN:VTIMEZONE
TZID:Europe/Berlin
BEGIN:DAYLIGHT
TZOFFSETFROM:+0100
TZOFFSETTO:+0200
DTSTART:20220327T010000
TZNAME:CEST
END:DAYLIGHT
END:VTIMEZONE
END:VCALENDAR
