BEGIN:VCALENDAR
VERSION:2.0
PRODID:-//Events | FID-Recht//NONSGML Events//EN
CALSCALE:GREGORIAN
X-ORIGINAL-URL:https://events.intrecht.de/termine/
X-WR-CALDESC:Events | FID-Recht - Events
BEGIN:VEVENT
UID:20200603T1418Z-1591193923.3362-EO-587-1@172.16.200.141
STATUS:CONFIRMED
DTSTAMP:20260425T132348Z
CREATED:20230418T101402Z
LAST-MODIFIED:20230418T101402Z
DTSTART;VALUE=DATE:20240314
DTEND;VALUE=DATE:20240317
SUMMARY: Strafrecht und Krise (10. Symposium des Jungen Strafrechts)
DESCRIPTION: 14.-16.3.2024 / Berlin https://www.jungesstrafrecht.de/veranst
 altungen-1/
X-ALT-DESC;FMTTYPE=text/html: <p>14.-16.3.2024 / Berlin</p><p><a href="http
 s://www.jungesstrafrecht.de/veranstaltungen-1/">https://www.jungesstrafrech
 t.de/veranstaltungen-1/</a></p><p>[av_button label='iCal-Export' link='./fe
 ed/eo-events' link_target='' size='small' position='center' label_display='
 ' title_attr='' icon_select='yes' icon='ue85b' font='entypo-fontello' color
 ='custom' custom_bg='#b5123e' custom_font='#ffffff' av_uid='' id='' custom_
 class='' admin_preview_bg='']</p>
CATEGORIES:Strafrecht
LOCATION:Inland
GEO:0.000000;0.000000
ORGANIZER;CN="ViFa-Recht":MAILTO:vifa-recht@sbb.spk-berlin.de
URL;VALUE=URI:https://events.intrecht.de/termine/termin/strafrecht-und-kris
 e-10-symposium-des-jungen-strafrechts/
END:VEVENT
BEGIN:VTIMEZONE
TZID:Europe/Berlin
BEGIN:STANDARD
TZOFFSETFROM:+0200
TZOFFSETTO:+0100
DTSTART:20231029T010000
TZNAME:CET
END:STANDARD
END:VTIMEZONE
END:VCALENDAR
