BEGIN:VCALENDAR
VERSION:2.0
PRODID:-//Events | FID-Recht//NONSGML Events//EN
CALSCALE:GREGORIAN
X-ORIGINAL-URL:https://events.intrecht.de/termine/
X-WR-CALDESC:Events | FID-Recht - Events
BEGIN:VEVENT
UID:20200713T1805Z-1594663533.3064-EO-1010-1@172.16.200.141
STATUS:CONFIRMED
DTSTAMP:20260421T145849Z
CREATED:20200616T180017Z
LAST-MODIFIED:20200616T180121Z
DTSTART;VALUE=DATE:20201008
DTEND;VALUE=DATE:20201011
SUMMARY: VERSCHOBEN: Strafrecht im Angesicht der Digitalisierung – 8. Sympo
 sium des Jungen Strafrechts (Konferenz)
DESCRIPTION: VERSCHOBEN: 9.-11.9.2021\, München https://www.jungesstrafrech
 t.de/  
X-ALT-DESC;FMTTYPE=text/html: <p><span style="font-size: 11.0pt\; font-fami
 ly: 'Calibri'\,sans-serif\; color: #222222\;">VERSCHOBEN: 9.-11.9.2021</spa
 n><span style="font-size: 11.0pt\; font-family: 'Calibri'\,sans-serif\; col
 or: #222222\;">\, München</span></p><p><a href="https://www.jungesstrafrech
 t.de/">https://www.jungesstrafrecht.de/</a></p><p> </p><p>[av_button label=
 'iCal-Export' link='./feed/eo-events' link_target='' size='small' position=
 'center' label_display='' title_attr='' icon_select='yes' icon='ue85b' font
 ='entypo-fontello' color='custom' custom_bg='#b5123e' custom_font='#ffffff'
  av_uid='' id='' custom_class='' admin_preview_bg='']</p>
CATEGORIES:Strafrecht
LOCATION:Inland
GEO:0.000000;0.000000
ORGANIZER;CN="ViFa-Recht":MAILTO:vifa-recht@sbb.spk-berlin.de
URL;VALUE=URI:https://events.intrecht.de/termine/termin/strafrecht-im-anges
 icht-der-digitalisierung-8-symposium-des-jungen-strafrechts-konferenz/
END:VEVENT
BEGIN:VTIMEZONE
TZID:Europe/Berlin
BEGIN:DAYLIGHT
TZOFFSETFROM:+0100
TZOFFSETTO:+0200
DTSTART:20200329T010000
TZNAME:CEST
END:DAYLIGHT
END:VTIMEZONE
END:VCALENDAR
