BEGIN:VCALENDAR
VERSION:2.0
PRODID:-//Events | FID-Recht//NONSGML Events//EN
CALSCALE:GREGORIAN
X-ORIGINAL-URL:https://events.intrecht.de/termine/
X-WR-CALDESC:Events | FID-Recht - Events
BEGIN:VEVENT
UID:20200603T1418Z-1591193923.3362-EO-587-1@172.16.200.141
STATUS:CONFIRMED
DTSTAMP:20260425T150245Z
CREATED:20250902T121807Z
LAST-MODIFIED:20250902T121856Z
DTSTART;VALUE=DATE:20251106
DTEND;VALUE=DATE:20251108
SUMMARY: Strafgesetzbücher seit der Aufklärung – Kodifikationen\, Kontrover
 sen und Kontexte (Internationaler Workshop)
DESCRIPTION: 6.-7.11.2025 / Innsbruck https://www.hsozkult.de/event/id/even
 t-153133?title=strafgesetzbuecher-seit-der-aufklaerung-kodifikationen-kontr
 oversen-und-kontexte&recno=10&q=rechtswissenschaft&sort=newestPublished&fq=
 &total=11
X-ALT-DESC;FMTTYPE=text/html: <p>6.-7.11.2025 / Innsbruck</p><p><a href="ht
 tps://www.hsozkult.de/event/id/event-153133?title=strafgesetzbuecher-seit-d
 er-aufklaerung-kodifikationen-kontroversen-und-kontexte&recno=10&q=rechtswi
 ssenschaft&sort=newestPublished&fq=&total=11">https://www.hsozkult.de/event
 /id/event-153133?title=strafgesetzbuecher-seit-der-aufklaerung-kodifikation
 en-kontroversen-und-kontexte&recno=10&q=rechtswissenschaft&sort=newestPubli
 shed&fq=&total=11</a></p><p>[av_button label='iCal-Export' link='./feed/eo-
 events' link_target='' size='small' position='center' label_display='' titl
 e_attr='' icon_select='yes' icon='ue85b' font='entypo-fontello' color='cust
 om' custom_bg='#b5123e' custom_font='#ffffff' av_uid='' id='' custom_class=
 '' admin_preview_bg='']</p>
CATEGORIES:Strafrecht
LOCATION:Ausland
GEO:0.000000;0.000000
ORGANIZER;CN="ViFa-Recht":MAILTO:vifa-recht@sbb.spk-berlin.de
URL;VALUE=URI:https://events.intrecht.de/termine/termin/strafgesetzbuecher-
 seit-der-aufklaerung-kodifikationen-kontroversen-und-kontexte-international
 er-workshop/
END:VEVENT
BEGIN:VTIMEZONE
TZID:Europe/Berlin
BEGIN:STANDARD
TZOFFSETFROM:+0200
TZOFFSETTO:+0100
DTSTART:20251026T010000
TZNAME:CET
END:STANDARD
END:VTIMEZONE
END:VCALENDAR
