BEGIN:VCALENDAR
VERSION:2.0
PRODID:-//Events | FID-Recht//NONSGML Events//EN
CALSCALE:GREGORIAN
X-ORIGINAL-URL:https://events.intrecht.de/termine/
X-WR-CALDESC:Events | FID-Recht - Events
BEGIN:VEVENT
UID:20200603T1418Z-1591193923.3362-EO-587-1@172.16.200.141
STATUS:CONFIRMED
DTSTAMP:20260422T154638Z
CREATED:20240418T111920Z
LAST-MODIFIED:20240418T112153Z
DTSTART;VALUE=DATE:20240528
DTEND;VALUE=DATE:20240529
SUMMARY: Strafbewehrte Aufklärungs- und Organisationspflichten hinsichtlich
  des Gesundheitszustandes der Behandelnden? (10. Medizinstrafrechtsabend vo
 n medstra\, WisteV und des IMR der Bucerius Law School)
DESCRIPTION: 28.5.2024 / Hamburg (Anmeldefrist: 22.5.2024) https://www.law-
 school.de/fileadmin/content/law-school.de/de/units/inst_medizinrecht/pdf/Me
 dstra-Abend_Programm_28-5-24.pdf
X-ALT-DESC;FMTTYPE=text/html: <p>28.5.2024 / Hamburg <strong>(Anmeldefrist:
  22.5.2024) </strong></p><p><a href="https://www.law-school.de/fileadmin/co
 ntent/law-school.de/de/units/inst_medizinrecht/pdf/Medstra-Abend_Programm_2
 8-5-24.pdf">https://www.law-school.de/fileadmin/content/law-school.de/de/un
 its/inst_medizinrecht/pdf/Medstra-Abend_Programm_28-5-24.pdf</a></p><p>[av_
 button label='iCal-Export' link='./feed/eo-events' link_target='' size='sma
 ll' position='center' label_display='' title_attr='' icon_select='yes' icon
 ='ue85b' font='entypo-fontello' color='custom' custom_bg='#b5123e' custom_f
 ont='#ffffff' av_uid='' id='' custom_class='' admin_preview_bg='']</p>
CATEGORIES:Recht interdisziplinär
LOCATION:Inland
GEO:0.000000;0.000000
ORGANIZER;CN="ViFa-Recht":MAILTO:vifa-recht@sbb.spk-berlin.de
URL;VALUE=URI:https://events.intrecht.de/termine/termin/strafbewehrte-aufkl
 aerungs-und-organisationspflichten-hinsichtlich-des-gesundheitszustandes-de
 r-behandelnden-10-medizinstrafrechtsabend-von-medstra-wistev-und-des-imr-de
 r-bucerius-law-school/
END:VEVENT
BEGIN:VTIMEZONE
TZID:Europe/Berlin
BEGIN:DAYLIGHT
TZOFFSETFROM:+0100
TZOFFSETTO:+0200
DTSTART:20240331T010000
TZNAME:CEST
END:DAYLIGHT
END:VTIMEZONE
END:VCALENDAR
