BEGIN:VCALENDAR
VERSION:2.0
PRODID:-//Events | FID-Recht//NONSGML Events//EN
CALSCALE:GREGORIAN
X-ORIGINAL-URL:https://events.intrecht.de/termine/
X-WR-CALDESC:Events | FID-Recht - Events
BEGIN:VEVENT
UID:20200603T1418Z-1591193923.3362-EO-587-1@172.16.200.141
STATUS:CONFIRMED
DTSTAMP:20260422T141530Z
CREATED:20240207T104308Z
LAST-MODIFIED:20240207T104308Z
DTSTART;VALUE=DATE:20240220
DTEND;VALUE=DATE:20240221
SUMMARY: (Straf-)Recht und Zeit in der Klimakrise (Podiumsdiskussion)
DESCRIPTION: 20.2.2024 / Frankfurt am Main https://contrust.uni-frankfurt.d
 e/event/straf-recht-und-zeit-in-der-klimakrise-3/
X-ALT-DESC;FMTTYPE=text/html: <p>20.2.2024 / Frankfurt am Main</p><p><a hre
 f="https://contrust.uni-frankfurt.de/event/straf-recht-und-zeit-in-der-klim
 akrise-3/">https://contrust.uni-frankfurt.de/event/straf-recht-und-zeit-in-
 der-klimakrise-3/</a></p><p>[av_button label='iCal-Export' link='./feed/eo-
 events' link_target='' size='small' position='center' label_display='' titl
 e_attr='' icon_select='yes' icon='ue85b' font='entypo-fontello' color='cust
 om' custom_bg='#b5123e' custom_font='#ffffff' av_uid='' id='' custom_class=
 '' admin_preview_bg='']</p>
CATEGORIES:Recht interdisziplinär
LOCATION:Inland
GEO:0.000000;0.000000
ORGANIZER;CN="ViFa-Recht":MAILTO:vifa-recht@sbb.spk-berlin.de
URL;VALUE=URI:https://events.intrecht.de/termine/termin/straf-recht-und-zei
 t-in-der-klimakrise-podiumsdiskussion/
END:VEVENT
BEGIN:VTIMEZONE
TZID:Europe/Berlin
BEGIN:STANDARD
TZOFFSETFROM:+0200
TZOFFSETTO:+0100
DTSTART:20231029T010000
TZNAME:CET
END:STANDARD
END:VTIMEZONE
END:VCALENDAR
