BEGIN:VCALENDAR
VERSION:2.0
PRODID:-//Events | FID-Recht//NONSGML Events//EN
CALSCALE:GREGORIAN
X-ORIGINAL-URL:https://events.intrecht.de/termine/
X-WR-CALDESC:Events | FID-Recht - Events
BEGIN:VEVENT
UID:20211206T1827Z-1638815240.378-EO-5384-1@172.16.200.141
STATUS:CONFIRMED
DTSTAMP:20260423T005649Z
CREATED:20211130T184158Z
LAST-MODIFIED:20211130T184158Z
DTSTART;VALUE=DATE:20211209
DTEND;VALUE=DATE:20211210
SUMMARY: Steuerungskraft des Strafrechts bei der Bewältigung von Krisen  (m
 it Tatjana Hörnle\, Ralf Kölbel\, Jens Puschke und Frauke Rostalski) (Onlin
 e-Podiumsdiskussion)
DESCRIPTION: 9.12.2021\, Online Einladung zur Ringvorlesung „Strafrecht in 
 der Krise“ im Wintersemester 2021/22 – Juristische Fakultät – Leibniz Unive
 rsität Hannover (uni-hannover.de)  
X-ALT-DESC;FMTTYPE=text/html: <p>9.12.2021\, Online</p><p><a href="https://
 www.jura.uni-hannover.de/nocache/de/news-veranstaltungen/neuigkeiten/aktuel
 les-detailansicht/news/einladung-zur-ringvorlesung-strafrecht-in-der-krise-
 im-wintersemester-202122-1/">Einladung zur Ringvorlesung "Strafrecht in der
  Krise" im Wintersemester 2021/22 – Juristische Fakultät – Leibniz Universi
 tät Hannover (uni-hannover.de)</a></p><p> </p><p>[av_button label='iCal-Exp
 ort' link='./feed/eo-events' link_target='' size='small' position='center' 
 label_display='' title_attr='' icon_select='yes' icon='ue85b' font='entypo-
 fontello' color='custom' custom_bg='#b5123e' custom_font='#ffffff' av_uid='
 ' id='' custom_class='' admin_preview_bg='']</p>
CATEGORIES:Strafrecht
LOCATION:Online
GEO:0.000000;0.000000
ORGANIZER;CN="ViFa-Recht":MAILTO:vifa-recht@sbb.spk-berlin.de
URL;VALUE=URI:https://events.intrecht.de/termine/termin/steuerungskraft-des
 -strafrechts-bei-der-bewaeltigung-von-krisen-mit-tatjana-hoernle-ralf-koelb
 el-jens-puschke-und-frauke-rostalski-online-podiumsdiskussion/
END:VEVENT
BEGIN:VTIMEZONE
TZID:Europe/Berlin
BEGIN:STANDARD
TZOFFSETFROM:+0200
TZOFFSETTO:+0100
DTSTART:20211031T010000
TZNAME:CET
END:STANDARD
END:VTIMEZONE
END:VCALENDAR
