BEGIN:VCALENDAR
VERSION:2.0
PRODID:-//Events | FID-Recht//NONSGML Events//EN
CALSCALE:GREGORIAN
X-ORIGINAL-URL:https://events.intrecht.de/termine/
X-WR-CALDESC:Events | FID-Recht - Events
BEGIN:VEVENT
UID:20200603T1418Z-1591193923.3362-EO-587-1@172.16.200.141
STATUS:CONFIRMED
DTSTAMP:20260422T052600Z
CREATED:20240119T173248Z
LAST-MODIFIED:20240119T173248Z
DTSTART;VALUE=DATE:20240124
DTEND;VALUE=DATE:20240125
SUMMARY: State-owned enterprises in international Law. Gazprom and others a
 t the private/public divide (Hybrid Event / Völkerrechtliche Tagesthemen)
DESCRIPTION: 24.1.2024 / Online und Kiel https://www.wsi.uni-kiel.de/de/ver
 anstaltungen/voelkerrechtliche-tagesthemen/voelkerrechtliche-tagesthemen-sp
 ort-business-and-human-rights-first-qatar-now-rwanda-fc-bayern-munichs-spon
 sorship-deals-with-patricia-winter
X-ALT-DESC;FMTTYPE=text/html: <p>24.1.2024 / Online und Kiel</p><p><a href=
 "https://www.wsi.uni-kiel.de/de/veranstaltungen/voelkerrechtliche-tagesthem
 en/voelkerrechtliche-tagesthemen-sport-business-and-human-rights-first-qata
 r-now-rwanda-fc-bayern-munichs-sponsorship-deals-with-patricia-winter">http
 s://www.wsi.uni-kiel.de/de/veranstaltungen/voelkerrechtliche-tagesthemen/vo
 elkerrechtliche-tagesthemen-sport-business-and-human-rights-first-qatar-now
 -rwanda-fc-bayern-munichs-sponsorship-deals-with-patricia-winter</a></p><p>
 [av_button label='iCal-Export' link='./feed/eo-events' link_target='' size=
 'small' position='center' label_display='' title_attr='' icon_select='yes' 
 icon='ue85b' font='entypo-fontello' color='custom' custom_bg='#b5123e' cust
 om_font='#ffffff' av_uid='' id='' custom_class='' admin_preview_bg='']</p>
CATEGORIES:Europäisches / Internationales Recht
LOCATION:Hybrid
GEO:0.000000;0.000000
ORGANIZER;CN="ViFa-Recht":MAILTO:vifa-recht@sbb.spk-berlin.de
URL;VALUE=URI:https://events.intrecht.de/termine/termin/state-owned-enterpr
 ises-in-international-law-gazprom-and-others-at-the-private-public-divide-h
 ybrid-event-voelkerrechtliche-tagesthemen/
END:VEVENT
BEGIN:VTIMEZONE
TZID:Europe/Berlin
BEGIN:STANDARD
TZOFFSETFROM:+0200
TZOFFSETTO:+0100
DTSTART:20231029T010000
TZNAME:CET
END:STANDARD
END:VTIMEZONE
END:VCALENDAR
