BEGIN:VCALENDAR
VERSION:2.0
PRODID:-//Events | FID-Recht//NONSGML Events//EN
CALSCALE:GREGORIAN
X-ORIGINAL-URL:https://events.intrecht.de/termine/
X-WR-CALDESC:Events | FID-Recht - Events
BEGIN:VEVENT
UID:20211027T1024Z-1635330279.7443-EO-4924-1@172.16.200.141
STATUS:CONFIRMED
DTSTAMP:20260423T082939Z
CREATED:20211026T145532Z
LAST-MODIFIED:20211026T145532Z
DTSTART;VALUE=DATE:20211028
DTEND;VALUE=DATE:20211029
SUMMARY: Standards as Sources (mit Eibe Riedel) (Vortrag)
DESCRIPTION: 28.10.2021\, Kiel https://www.wsi.uni-kiel.de/de/veranstaltung
 en/walther-schuecking-lecture/4-walther-schuecking-lecture-1  
X-ALT-DESC;FMTTYPE=text/html: <p>28.10.2021\, Kiel</p><p><a href="https://w
 ww.wsi.uni-kiel.de/de/veranstaltungen/walther-schuecking-lecture/4-walther-
 schuecking-lecture-1">https://www.wsi.uni-kiel.de/de/veranstaltungen/walthe
 r-schuecking-lecture/4-walther-schuecking-lecture-1</a></p><p> </p><p>[av_b
 utton label='iCal-Export' link='./feed/eo-events' link_target='' size='smal
 l' position='center' label_display='' title_attr='' icon_select='yes' icon=
 'ue85b' font='entypo-fontello' color='custom' custom_bg='#b5123e' custom_fo
 nt='#ffffff' av_uid='' id='' custom_class='' admin_preview_bg='']</p>
CATEGORIES:Europäisches / Internationales Recht
LOCATION:Inland
GEO:0.000000;0.000000
ORGANIZER;CN="ViFa-Recht":MAILTO:vifa-recht@sbb.spk-berlin.de
URL;VALUE=URI:https://events.intrecht.de/termine/termin/standards-as-source
 s-mit-eibe-riedel-vortrag/
END:VEVENT
BEGIN:VTIMEZONE
TZID:Europe/Berlin
BEGIN:DAYLIGHT
TZOFFSETFROM:+0200
TZOFFSETTO:+0200
DTSTART:20210328T010000
TZNAME:CEST
END:DAYLIGHT
END:VTIMEZONE
END:VCALENDAR
