BEGIN:VCALENDAR
VERSION:2.0
PRODID:-//Events | FID-Recht//NONSGML Events//EN
CALSCALE:GREGORIAN
X-ORIGINAL-URL:https://events.intrecht.de/termine/
X-WR-CALDESC:Events | FID-Recht - Events
BEGIN:VEVENT
UID:20230418T0212Z-1681783945.0375-EO-12815-1@172.16.200.151
STATUS:CONFIRMED
DTSTAMP:20260425T122044Z
CREATED:20230215T163859Z
LAST-MODIFIED:20230215T163859Z
DTSTART;VALUE=DATE:20230222
DTEND;VALUE=DATE:20230225
SUMMARY: Sprachen des Krieges: Deutungswissen und Perspektivdebatten zum Kr
 ieg in der Ukraine (Symposium)
DESCRIPTION: 22.-24.2.2023 / Hannover https://www.herder-institut.de/event/
 sprachen-des-krieges-deutungswissen-und-perspektivdebatten-zum-krieg-in-der
 -ukraine/  
X-ALT-DESC;FMTTYPE=text/html: <p>22.-24.2.2023 / Hannover</p><p><a href="ht
 tps://www.herder-institut.de/event/sprachen-des-krieges-deutungswissen-und-
 perspektivdebatten-zum-krieg-in-der-ukraine/">https://www.herder-institut.d
 e/event/sprachen-des-krieges-deutungswissen-und-perspektivdebatten-zum-krie
 g-in-der-ukraine/</a></p><p> </p><p>[av_button label='iCal-Export' link='./
 feed/eo-events' link_target='' size='small' position='center' label_display
 ='' title_attr='' icon_select='yes' icon='ue85b' font='entypo-fontello' col
 or='custom' custom_bg='#b5123e' custom_font='#ffffff' av_uid='' id='' custo
 m_class='' admin_preview_bg='']</p>
CATEGORIES:Recht interdisziplinär
LOCATION:Inland
GEO:0.000000;0.000000
ORGANIZER;CN="ViFa-Recht":MAILTO:vifa-recht@sbb.spk-berlin.de
URL;VALUE=URI:https://events.intrecht.de/termine/termin/sprachen-des-kriege
 s-deutungswissen-und-perspektivdebatten-zum-krieg-in-der-ukraine-symposium/
END:VEVENT
BEGIN:VTIMEZONE
TZID:Europe/Berlin
BEGIN:STANDARD
TZOFFSETFROM:+0200
TZOFFSETTO:+0100
DTSTART:20221030T010000
TZNAME:CET
END:STANDARD
END:VTIMEZONE
END:VCALENDAR
