BEGIN:VCALENDAR
VERSION:2.0
PRODID:-//Events | FID-Recht//NONSGML Events//EN
CALSCALE:GREGORIAN
X-ORIGINAL-URL:https://events.intrecht.de/termine/
X-WR-CALDESC:Events | FID-Recht - Events
BEGIN:VEVENT
UID:20211117T2043Z-1637181819.662-EO-5144-1@172.16.200.141
STATUS:CONFIRMED
DTSTAMP:20260423T022456Z
CREATED:20211116T232050Z
LAST-MODIFIED:20211116T232050Z
DTSTART;VALUE=DATE:20211122
DTEND;VALUE=DATE:20211123
SUMMARY: Sportverbände und Menschenrechte – Zur Rolle von Corporate Social 
 Responsibility und Athletenvereinigungen ((Online-)Symposium)
DESCRIPTION: 22.11.2021\, Hamburg/Online Symposium des Forums für Internati
 onales Sportrecht 2021 | Max-Planck-Institut für ausländisches und internat
 ionales Privatrecht (mpipriv.de)  
X-ALT-DESC;FMTTYPE=text/html: <p>22.11.2021\, Hamburg/Online</p><p><a href=
 "https://www.mpipriv.de/sportrechtssymposium-2021.html">Symposium des Forum
 s für Internationales Sportrecht 2021 | Max-Planck-Institut für ausländisch
 es und internationales Privatrecht (mpipriv.de)</a></p><p> </p><p>[av_butto
 n label='iCal-Export' link='./feed/eo-events' link_target='' size='small' p
 osition='center' label_display='' title_attr='' icon_select='yes' icon='ue8
 5b' font='entypo-fontello' color='custom' custom_bg='#b5123e' custom_font='
 #ffffff' av_uid='' id='' custom_class='' admin_preview_bg='']</p>
CATEGORIES:Europäisches / Internationales Recht,Recht interdisziplinär,Zivilrecht
LOCATION:Online
GEO:0.000000;0.000000
ORGANIZER;CN="ViFa-Recht":MAILTO:vifa-recht@sbb.spk-berlin.de
URL;VALUE=URI:https://events.intrecht.de/termine/termin/sportverbaende-und-
 menschenrechte-zur-rolle-von-corporate-social-responsibility-und-athletenve
 reinigungen-online-symposium-2/
END:VEVENT
BEGIN:VTIMEZONE
TZID:Europe/Berlin
BEGIN:STANDARD
TZOFFSETFROM:+0200
TZOFFSETTO:+0100
DTSTART:20211031T010000
TZNAME:CET
END:STANDARD
END:VTIMEZONE
END:VCALENDAR
