BEGIN:VCALENDAR
VERSION:2.0
PRODID:-//Events | FID-Recht//NONSGML Events//EN
CALSCALE:GREGORIAN
X-ORIGINAL-URL:https://events.intrecht.de/termine/
X-WR-CALDESC:Events | FID-Recht - Events
BEGIN:VEVENT
UID:20210130T1013Z-1612001616.0753-EO-2532-1@172.16.200.141
STATUS:CONFIRMED
DTSTAMP:20260421T115535Z
CREATED:20210126T124324Z
LAST-MODIFIED:20210126T124324Z
DTSTART;TZID=Europe/Berlin:20210126T180000
DTEND;TZID=Europe/Berlin:20210126T180000
SUMMARY: Sozialverantwortliche Investitionen: Eine neue Ära? (mit Sebastián
  Mantilla Blanco) (Online-Vortrag)
DESCRIPTION: 26.1.2021\, Online https://www.fau.de/termine/sozialverantwort
 liche-investitionen-eine-neue-aera-dr-sebastian-mantilla-blanco-llm-univers
 itaet-bonn-menschenrechte-und-soziale-gerechtigkeit-ringvorlesung/    
X-ALT-DESC;FMTTYPE=text/html: <p>26.1.2021\, Online</p><p><a href="https://
 www.fau.de/termine/sozialverantwortliche-investitionen-eine-neue-aera-dr-se
 bastian-mantilla-blanco-llm-universitaet-bonn-menschenrechte-und-soziale-ge
 rechtigkeit-ringvorlesung/">https://www.fau.de/termine/sozialverantwortlich
 e-investitionen-eine-neue-aera-dr-sebastian-mantilla-blanco-llm-universitae
 t-bonn-menschenrechte-und-soziale-gerechtigkeit-ringvorlesung/</a></p><p><s
 trong> </strong></p><p> </p><p>[av_button label='iCal-Export' link='./feed/
 eo-events' link_target='' size='small' position='center' label_display='' t
 itle_attr='' icon_select='yes' icon='ue85b' font='entypo-fontello' color='c
 ustom' custom_bg='#b5123e' custom_font='#ffffff' av_uid='' id='' custom_cla
 ss='' admin_preview_bg='']</p>
CATEGORIES:Europäisches / Internationales Recht
LOCATION:Online
GEO:0.000000;0.000000
ORGANIZER;CN="ViFa-Recht":MAILTO:vifa-recht@sbb.spk-berlin.de
URL;VALUE=URI:https://events.intrecht.de/termine/termin/sozialverantwortlic
 he-investitionen-eine-neue-aera-mit-sebastian-mantilla-blanco-online-vortra
 g/
END:VEVENT
BEGIN:VTIMEZONE
TZID:Europe/Berlin
BEGIN:STANDARD
TZOFFSETFROM:+0200
TZOFFSETTO:+0100
DTSTART:20201025T010000
TZNAME:CET
END:STANDARD
END:VTIMEZONE
END:VCALENDAR
