BEGIN:VCALENDAR
VERSION:2.0
PRODID:-//Events | FID-Recht//NONSGML Events//EN
CALSCALE:GREGORIAN
X-ORIGINAL-URL:https://events.intrecht.de/termine/
X-WR-CALDESC:Events | FID-Recht - Events
BEGIN:VEVENT
UID:20200623T1358Z-1592920681.2649-EO-969-1@172.16.200.141
STATUS:CONFIRMED
DTSTAMP:20260421T102851Z
CREATED:20210708T080541Z
LAST-MODIFIED:20210708T080617Z
DTSTART;TZID=Europe/Berlin:20210715T180000
DTEND;TZID=Europe/Berlin:20210715T200000
SUMMARY: Sozialpolitische Antworten auf die COVID-19-Pandemie: Vergleich Po
 len – Deutschland (Podium)
DESCRIPTION: 15.7.2021\, Online https://www.rewi.europa-uni.de/de/lehrstuhl
 /or/sozialrecht/veranstaltungen/index.html    
X-ALT-DESC;FMTTYPE=text/html: <p>15.7.2021\, Online</p><p><a href="https://
 www.rewi.europa-uni.de/de/lehrstuhl/or/sozialrecht/veranstaltungen/index.ht
 ml" target="_blank" rel="noopener">https://www.rewi.europa-uni.de/de/lehrst
 uhl/or/sozialrecht/veranstaltungen/index.html</a></p><p> </p><p> </p><p>[av
 _button label='iCal-Export' link='./feed/eo-events' link_target='' size='sm
 all' position='center' label_display='' title_attr='' icon_select='yes' ico
 n='ue85b' font='entypo-fontello' color='custom' custom_bg='#b5123e' custom_
 font='#ffffff' av_uid='' id='' custom_class='' admin_preview_bg='']</p>
CATEGORIES:Öffentliches Recht
LOCATION:Online
GEO:0.000000;0.000000
ORGANIZER;CN="ViFa-Recht":MAILTO:vifa-recht@sbb.spk-berlin.de
URL;VALUE=URI:https://events.intrecht.de/termine/termin/sozialpolitische-an
 tworten-auf-die-covid-19-pandemie-vergleich-polen-deutschland-podium/
END:VEVENT
BEGIN:VTIMEZONE
TZID:Europe/Berlin
BEGIN:DAYLIGHT
TZOFFSETFROM:+0100
TZOFFSETTO:+0200
DTSTART:20210328T010000
TZNAME:CEST
END:DAYLIGHT
END:VTIMEZONE
END:VCALENDAR
