BEGIN:VCALENDAR
VERSION:2.0
PRODID:-//Events | FID-Recht//NONSGML Events//EN
CALSCALE:GREGORIAN
X-ORIGINAL-URL:https://events.intrecht.de/termine/
X-WR-CALDESC:Events | FID-Recht - Events
BEGIN:VEVENT
UID:20200603T1418Z-1591193923.3362-EO-587-1@172.16.200.141
STATUS:CONFIRMED
DTSTAMP:20260425T200300Z
CREATED:20250401T100427Z
LAST-MODIFIED:20250401T100427Z
DTSTART;VALUE=DATE:20250401
DTEND;VALUE=DATE:20250402
SUMMARY: Soziale Dimensionen der ökologischen Transformation (Online Event 
 / Frankfurter Gespräche zum Sozialrecht)
DESCRIPTION: 1.4.2025 / Online https://www.rewi.europa-uni.de/de/professure
 n/oeffentl-recht-europ-sozialrecht/_fotos/Soziale-Dimensionen.jpg
X-ALT-DESC;FMTTYPE=text/html: <p>1.4.2025 / Online</p><p><a href="https://w
 ww.rewi.europa-uni.de/de/professuren/oeffentl-recht-europ-sozialrecht/_foto
 s/Soziale-Dimensionen.jpg">https://www.rewi.europa-uni.de/de/professuren/oe
 ffentl-recht-europ-sozialrecht/_fotos/Soziale-Dimensionen.jpg</a></p><p>[av
 _button label='iCal-Export' link='./feed/eo-events' link_target='' size='sm
 all' position='center' label_display='' title_attr='' icon_select='yes' ico
 n='ue85b' font='entypo-fontello' color='custom' custom_bg='#b5123e' custom_
 font='#ffffff' av_uid='' id='' custom_class='' admin_preview_bg='']</p>
CATEGORIES:Recht interdisziplinär
LOCATION:Online
GEO:0.000000;0.000000
ORGANIZER;CN="ViFa-Recht":MAILTO:vifa-recht@sbb.spk-berlin.de
URL;VALUE=URI:https://events.intrecht.de/termine/termin/soziale-dimensionen
 -der-oekologischen-transformation-online-event-frankfurter-gespraeche-zum-s
 ozialrecht/
END:VEVENT
BEGIN:VTIMEZONE
TZID:Europe/Berlin
BEGIN:DAYLIGHT
TZOFFSETFROM:+0100
TZOFFSETTO:+0200
DTSTART:20250330T010000
TZNAME:CEST
END:DAYLIGHT
END:VTIMEZONE
END:VCALENDAR
