BEGIN:VCALENDAR
VERSION:2.0
PRODID:-//Events | FID-Recht//NONSGML Events//EN
CALSCALE:GREGORIAN
X-ORIGINAL-URL:https://events.intrecht.de/termine/
X-WR-CALDESC:Events | FID-Recht - Events
BEGIN:VEVENT
UID:20200603T1418Z-1591193923.3362-EO-587-1@172.16.200.141
STATUS:CONFIRMED
DTSTAMP:20260422T071930Z
CREATED:20240207T102402Z
LAST-MODIFIED:20240207T102402Z
DTSTART;VALUE=DATE:20240213
DTEND;VALUE=DATE:20240214
SUMMARY: Soziale Bewegung und das Recht auf Stadt – Debatten um Wohnen und 
 demokratische Teilhabe in Berlin und Johannesburg (Hybrid Event)
DESCRIPTION: 13.2.2024 / Online und Berlin https://www.jura.fu-berlin.de/en
 /forschung/fuels/Upcoming/Event-2024-02-13.html
X-ALT-DESC;FMTTYPE=text/html: <p>13.2.2024 / Online und Berlin</p><p><a hre
 f="https://www.jura.fu-berlin.de/en/forschung/fuels/Upcoming/Event-2024-02-
 13.html">https://www.jura.fu-berlin.de/en/forschung/fuels/Upcoming/Event-20
 24-02-13.html</a></p><p>[av_button label='iCal-Export' link='./feed/eo-even
 ts' link_target='' size='small' position='center' label_display='' title_at
 tr='' icon_select='yes' icon='ue85b' font='entypo-fontello' color='custom' 
 custom_bg='#b5123e' custom_font='#ffffff' av_uid='' id='' custom_class='' a
 dmin_preview_bg='']</p>
CATEGORIES:Recht interdisziplinär
LOCATION:Hybrid
GEO:0.000000;0.000000
ORGANIZER;CN="ViFa-Recht":MAILTO:vifa-recht@sbb.spk-berlin.de
URL;VALUE=URI:https://events.intrecht.de/termine/termin/soziale-bewegung-un
 d-das-recht-auf-stadt-debatten-um-wohnen-und-demokratische-teilhabe-in-berl
 in-und-johannesburg-hybrid-event/
END:VEVENT
BEGIN:VTIMEZONE
TZID:Europe/Berlin
BEGIN:STANDARD
TZOFFSETFROM:+0200
TZOFFSETTO:+0100
DTSTART:20231029T010000
TZNAME:CET
END:STANDARD
END:VTIMEZONE
END:VCALENDAR
