BEGIN:VCALENDAR
VERSION:2.0
PRODID:-//Events | FID-Recht//NONSGML Events//EN
CALSCALE:GREGORIAN
X-ORIGINAL-URL:https://events.intrecht.de/termine/
X-WR-CALDESC:Events | FID-Recht - Events
BEGIN:VEVENT
UID:20220716T0230Z-1657938638.2273-EO-4588-1@172.16.200.151
STATUS:CONFIRMED
DTSTAMP:20260425T231246Z
CREATED:20220714T111720Z
LAST-MODIFIED:20220714T111720Z
DTSTART;VALUE=DATE:20221012
DTEND;VALUE=DATE:20221012
SUMMARY: Sowjetische Militärtribunale (SMT) und Sicherheitsorgane in der SB
 Z/DDR und Österreich (Workshop)
DESCRIPTION: 12.10.2022\, Dresden Sowjetische Militärtribunale (SMT) und Si
 cherheitsorgane in der SBZ/DDR und Österreich | H-Soz-Kult. Kommunikation u
 nd Fachinformation für die Geschichtswissenschaften | Geschichte im Netz | 
 History in the web (hsozkult.de)  
X-ALT-DESC;FMTTYPE=text/html: <p>12.10.2022\, Dresden</p><p><a href="https:
 //www.hsozkult.de/event/id/event-128465">Sowjetische Militärtribunale (SMT)
  und Sicherheitsorgane in der SBZ/DDR und Österreich | H-Soz-Kult. Kommunik
 ation und Fachinformation für die Geschichtswissenschaften | Geschichte im 
 Netz | History in the web (hsozkult.de)</a></p><p> </p><p>[av_button label=
 'iCal-Export' link='./feed/eo-events' link_target='' size='small' position=
 'center' label_display='' title_attr='' icon_select='yes' icon='ue85b' font
 ='entypo-fontello' color='custom' custom_bg='#b5123e' custom_font='#ffffff'
  av_uid='' id='' custom_class='' admin_preview_bg='']</p>
CATEGORIES:Recht interdisziplinär
LOCATION:Inland
GEO:0.000000;0.000000
ORGANIZER;CN="ViFa-Recht":MAILTO:vifa-recht@sbb.spk-berlin.de
URL;VALUE=URI:https://events.intrecht.de/termine/termin/sowjetische-militae
 rtribunale-smt-und-sicherheitsorgane-in-der-sbz-ddr-und-oesterreich-worksho
 p/
END:VEVENT
BEGIN:VTIMEZONE
TZID:Europe/Berlin
BEGIN:DAYLIGHT
TZOFFSETFROM:+0100
TZOFFSETTO:+0200
DTSTART:20220327T010000
TZNAME:CEST
END:DAYLIGHT
END:VTIMEZONE
END:VCALENDAR
