BEGIN:VCALENDAR
VERSION:2.0
PRODID:-//Events | FID-Recht//NONSGML Events//EN
CALSCALE:GREGORIAN
X-ORIGINAL-URL:https://events.intrecht.de/termine/
X-WR-CALDESC:Events | FID-Recht - Events
BEGIN:VEVENT
UID:20200603T1418Z-1591193923.3362-EO-587-1@172.16.200.141
STATUS:CONFIRMED
DTSTAMP:20260422T110759Z
CREATED:20240223T131735Z
LAST-MODIFIED:20240223T131822Z
DTSTART;VALUE=DATE:20240314
DTEND;VALUE=DATE:20240315
SUMMARY: Sovereignty\, International Law\, and the Princely States of Colon
 ial South Asia (Book Launch)
DESCRIPTION: 14.3.2024 / Online https://www.graduateinstitute.ch/communicat
 ions/events/book-launch-sovereignty-international-law-and-princely-states-c
 olonial-south
X-ALT-DESC;FMTTYPE=text/html: <p>14.3.2024 / Online</p><p><a href="https://
 www.graduateinstitute.ch/communications/events/book-launch-sovereignty-inte
 rnational-law-and-princely-states-colonial-south">https://www.graduateinsti
 tute.ch/communications/events/book-launch-sovereignty-international-law-and
 -princely-states-colonial-south</a></p><p>[av_button label='iCal-Export' li
 nk='./feed/eo-events' link_target='' size='small' position='center' label_d
 isplay='' title_attr='' icon_select='yes' icon='ue85b' font='entypo-fontell
 o' color='custom' custom_bg='#b5123e' custom_font='#ffffff' av_uid='' id=''
  custom_class='' admin_preview_bg='']</p>
CATEGORIES:Europäisches / Internationales Recht
LOCATION:Online
GEO:0.000000;0.000000
ORGANIZER;CN="ViFa-Recht":MAILTO:vifa-recht@sbb.spk-berlin.de
URL;VALUE=URI:https://events.intrecht.de/termine/termin/sovereignty-interna
 tional-law-and-the-princely-states-of-colonial-south-asia-book-launch/
END:VEVENT
BEGIN:VTIMEZONE
TZID:Europe/Berlin
BEGIN:STANDARD
TZOFFSETFROM:+0200
TZOFFSETTO:+0100
DTSTART:20231029T010000
TZNAME:CET
END:STANDARD
END:VTIMEZONE
END:VCALENDAR
