BEGIN:VCALENDAR
VERSION:2.0
PRODID:-//Events | FID-Recht//NONSGML Events//EN
CALSCALE:GREGORIAN
X-ORIGINAL-URL:https://events.intrecht.de/termine/
X-WR-CALDESC:Events | FID-Recht - Events
BEGIN:VEVENT
UID:20200603T1418Z-1591193923.3362-EO-587-1@172.16.200.141
STATUS:CONFIRMED
DTSTAMP:20260421T115533Z
CREATED:20230823T093650Z
LAST-MODIFIED:20230823T093650Z
DTSTART;VALUE=DATE:20230904
DTEND;VALUE=DATE:20230905
SUMMARY: Sovereignty and the Economy in the Founding of America’s Postwar O
 rder (Online-Event)
DESCRIPTION: 4.9.2023 / Online https://www.lpgcil.org/events-blog/sovereign
 ty-and-the-economy-in-the-founding-of-americas-postwar-order
X-ALT-DESC;FMTTYPE=text/html: <p>4.9.2023 / Online</p><p><a href="https://w
 ww.lpgcil.org/events-blog/sovereignty-and-the-economy-in-the-founding-of-am
 ericas-postwar-order">https://www.lpgcil.org/events-blog/sovereignty-and-th
 e-economy-in-the-founding-of-americas-postwar-order</a></p><p>[av_button la
 bel='iCal-Export' link='./feed/eo-events' link_target='' size='small' posit
 ion='center' label_display='' title_attr='' icon_select='yes' icon='ue85b' 
 font='entypo-fontello' color='custom' custom_bg='#b5123e' custom_font='#fff
 fff' av_uid='' id='' custom_class='' admin_preview_bg='']</p>
CATEGORIES:Recht interdisziplinär
LOCATION:Online
GEO:0.000000;0.000000
ORGANIZER;CN="ViFa-Recht":MAILTO:vifa-recht@sbb.spk-berlin.de
URL;VALUE=URI:https://events.intrecht.de/termine/termin/sovereignty-and-the
 -economy-in-the-founding-of-americas-postwar-order-online-event/
END:VEVENT
BEGIN:VTIMEZONE
TZID:Europe/Berlin
BEGIN:DAYLIGHT
TZOFFSETFROM:+0100
TZOFFSETTO:+0200
DTSTART:20230326T010000
TZNAME:CEST
END:DAYLIGHT
END:VTIMEZONE
END:VCALENDAR
