BEGIN:VCALENDAR
VERSION:2.0
PRODID:-//Events | FID-Recht//NONSGML Events//EN
CALSCALE:GREGORIAN
X-ORIGINAL-URL:https://events.intrecht.de/termine/
X-WR-CALDESC:Events | FID-Recht - Events
BEGIN:VEVENT
UID:20211117T2041Z-1637181716.9546-EO-4958-1@172.16.200.141
STATUS:CONFIRMED
DTSTAMP:20260421T172255Z
CREATED:20211116T225132Z
LAST-MODIFIED:20211116T225132Z
DTSTART;VALUE=DATE:20211103
DTEND;VALUE=DATE:20211107
SUMMARY: Souveränität und Gewalt. Der Kampf um die Legitimationsgrundlagen 
 liberaler Demokratien (Online-Tagung)
DESCRIPTION: 3.-6.11.2021\, Online Souveränität und Gewalt. Der Kampf um di
 e Legitimationsgrundlagen liberaler Demokratien – Alfried Krupp Wissenschaf
 tskolleg Greifswald (wiko-greifswald.de)  
X-ALT-DESC;FMTTYPE=text/html: <p>3.-6.11.2021\, Online</p><p><a href="https
 ://www.wiko-greifswald.de/programm/allgemeines/veranstaltungskalender/veran
 staltung/n/souveraenitaet-und-gewalt-der-kampf-um-die-legitimationsgrundlag
 en-liberaler-demokratien/?utm_source=sendinblue&utm_campaign=Veranstaltunge
 n%20vom%201%20bis%207%20November%202021%20im%20Kolleg&utm_medium=email">Sou
 veränität und Gewalt. Der Kampf um die Legitimationsgrundlagen liberaler De
 mokratien - Alfried Krupp Wissenschaftskolleg Greifswald (wiko-greifswald.d
 e)</a></p><p> </p><p>[av_button label='iCal-Export' link='./feed/eo-events'
  link_target='' size='small' position='center' label_display='' title_attr=
 '' icon_select='yes' icon='ue85b' font='entypo-fontello' color='custom' cus
 tom_bg='#b5123e' custom_font='#ffffff' av_uid='' id='' custom_class='' admi
 n_preview_bg='']</p>
CATEGORIES:Recht interdisziplinär
LOCATION:Online
GEO:0.000000;0.000000
ORGANIZER;CN="ViFa-Recht":MAILTO:vifa-recht@sbb.spk-berlin.de
URL;VALUE=URI:https://events.intrecht.de/termine/termin/souveraenitaet-und-
 gewalt-der-kampf-um-die-legitimationsgrundlagen-liberaler-demokratien-onlin
 e-tagung/
END:VEVENT
BEGIN:VTIMEZONE
TZID:Europe/Berlin
BEGIN:STANDARD
TZOFFSETFROM:+0200
TZOFFSETTO:+0100
DTSTART:20211031T010000
TZNAME:CET
END:STANDARD
END:VTIMEZONE
END:VCALENDAR
