BEGIN:VCALENDAR
VERSION:2.0
PRODID:-//Events | FID-Recht//NONSGML Events//EN
CALSCALE:GREGORIAN
X-ORIGINAL-URL:https://events.intrecht.de/termine/
X-WR-CALDESC:Events | FID-Recht - Events
BEGIN:VEVENT
UID:20200603T1418Z-1591193923.3362-EO-587-1@172.16.200.141
STATUS:CONFIRMED
DTSTAMP:20260423T040927Z
CREATED:20240708T092624Z
LAST-MODIFIED:20240708T092624Z
DTSTART;VALUE=DATE:20241121
DTEND;VALUE=DATE:20241123
SUMMARY: Southeast Asia and its (Re-)Engagement with International Law – Ch
 allenges and Perspectives (Conference)
DESCRIPTION: 21.-22.11.2024 / Den Haag (Einreichungsfrist: 15.7.2024) https
 ://drive.google.com/file/d/19JHO8U9taaSZ75tnFJyQviEJcAqJ___-/view
X-ALT-DESC;FMTTYPE=text/html: <p>21.-22.11.2024 / Den Haag <strong>(Einreic
 hungsfrist: 15.7.2024)</strong></p><p><a href="https://drive.google.com/fil
 e/d/19JHO8U9taaSZ75tnFJyQviEJcAqJ___-/view">https://drive.google.com/file/d
 /19JHO8U9taaSZ75tnFJyQviEJcAqJ___-/view</a></p><p>[av_button label='iCal-Ex
 port' link='./feed/eo-events' link_target='' size='small' position='center'
  label_display='' title_attr='' icon_select='yes' icon='ue85b' font='entypo
 -fontello' color='custom' custom_bg='#b5123e' custom_font='#ffffff' av_uid=
 '' id='' custom_class='' admin_preview_bg='']</p>
CATEGORIES:Europäisches / Internationales Recht
LOCATION:Ausland
GEO:0.000000;0.000000
ORGANIZER;CN="ViFa-Recht":MAILTO:vifa-recht@sbb.spk-berlin.de
URL;VALUE=URI:https://events.intrecht.de/termine/termin/southeast-asia-and-
 its-re-engagement-with-international-law-challenges-and-perspectives-confer
 ence/
END:VEVENT
BEGIN:VTIMEZONE
TZID:Europe/Berlin
BEGIN:STANDARD
TZOFFSETFROM:+0200
TZOFFSETTO:+0100
DTSTART:20241027T010000
TZNAME:CET
END:STANDARD
END:VTIMEZONE
END:VCALENDAR
