BEGIN:VCALENDAR
VERSION:2.0
PRODID:-//Events | FID-Recht//NONSGML Events//EN
CALSCALE:GREGORIAN
X-ORIGINAL-URL:https://events.intrecht.de/termine/
X-WR-CALDESC:Events | FID-Recht - Events
BEGIN:VEVENT
UID:20211218T0532Z-1639805552.243-EO-5487-1@172.16.200.141
STATUS:CONFIRMED
DTSTAMP:20260419T150001Z
CREATED:20211216T123452Z
LAST-MODIFIED:20211216T123452Z
DTSTART;VALUE=DATE:20211214
DTEND;VALUE=DATE:20211215
SUMMARY: Solidarity in Academia (with Anuscheh Farahat) (Online-Vortrag)
DESCRIPTION: Anuscheh Farahat on Solidarity in Academia – Minerva LAW Netwo
 rk 14.12.2021\, Online  
X-ALT-DESC;FMTTYPE=text/html: <p><a href="https://minervalawnetwork.com/eve
 nts/anuscheh-farahat-on-solidarity-in-academia/">Anuscheh Farahat on Solida
 rity in Academia - Minerva LAW Network</a></p><p>14.12.2021\, Online</p><p>
  </p><p>[av_button label='iCal-Export' link='./feed/eo-events' link_target=
 '' size='small' position='center' label_display='' title_attr='' icon_selec
 t='yes' icon='ue85b' font='entypo-fontello' color='custom' custom_bg='#b512
 3e' custom_font='#ffffff' av_uid='' id='' custom_class='' admin_preview_bg=
 '']</p>
CATEGORIES:Recht interdisziplinär
LOCATION:Online
GEO:0.000000;0.000000
ORGANIZER;CN="ViFa-Recht":MAILTO:vifa-recht@sbb.spk-berlin.de
URL;VALUE=URI:https://events.intrecht.de/termine/termin/solidarity-in-acade
 mia-with-anuscheh-farahat-online-vortrag/
END:VEVENT
BEGIN:VTIMEZONE
TZID:Europe/Berlin
BEGIN:STANDARD
TZOFFSETFROM:+0200
TZOFFSETTO:+0100
DTSTART:20211031T010000
TZNAME:CET
END:STANDARD
END:VTIMEZONE
END:VCALENDAR
