BEGIN:VCALENDAR
VERSION:2.0
PRODID:-//Events | FID-Recht//NONSGML Events//EN
CALSCALE:GREGORIAN
X-ORIGINAL-URL:https://events.intrecht.de/termine/
X-WR-CALDESC:Events | FID-Recht - Events
BEGIN:VEVENT
UID:20200603T1418Z-1591193923.3362-EO-587-1@172.16.200.141
STATUS:CONFIRMED
DTSTAMP:20260423T020835Z
CREATED:20250225T161353Z
LAST-MODIFIED:20250225T161353Z
DTSTART;VALUE=DATE:20251113
DTEND;VALUE=DATE:20251115
SUMMARY: Sociological Inquiries into International Law in a Polarized World
 : Markets\, National Security\, and Democracy (Workshop)
DESCRIPTION: 13.-14.11.2025 / Utrecht (Einreichungsfrist: 31.3.2025) https:
 //www.uu.nl/sites/default/files/reb-call-for-papers-CfP%20Utrecht%20Sociolo
 gy%20Workshop.pdf
X-ALT-DESC;FMTTYPE=text/html: <p>13.-14.11.2025 / Utrecht <strong>(Einreich
 ungsfrist: 31.3.2025)</strong></p><p><a href="https://www.uu.nl/sites/defau
 lt/files/reb-call-for-papers-CfP%20Utrecht%20Sociology%20Workshop.pdf">http
 s://www.uu.nl/sites/default/files/reb-call-for-papers-CfP%20Utrecht%20Socio
 logy%20Workshop.pdf</a></p><p>[av_button label='iCal-Export' link='./feed/e
 o-events' link_target='' size='small' position='center' label_display='' ti
 tle_attr='' icon_select='yes' icon='ue85b' font='entypo-fontello' color='cu
 stom' custom_bg='#b5123e' custom_font='#ffffff' av_uid='' id='' custom_clas
 s='' admin_preview_bg='']</p>
CATEGORIES:Recht interdisziplinär
LOCATION:Ausland
GEO:0.000000;0.000000
ORGANIZER;CN="ViFa-Recht":MAILTO:vifa-recht@sbb.spk-berlin.de
URL;VALUE=URI:https://events.intrecht.de/termine/termin/sociological-inquir
 ies-into-international-law-in-a-polarized-world-markets-national-security-a
 nd-democracy-workshop/
END:VEVENT
BEGIN:VTIMEZONE
TZID:Europe/Berlin
BEGIN:STANDARD
TZOFFSETFROM:+0200
TZOFFSETTO:+0100
DTSTART:20251026T010000
TZNAME:CET
END:STANDARD
END:VTIMEZONE
END:VCALENDAR
