BEGIN:VCALENDAR
VERSION:2.0
PRODID:-//Events | FID-Recht//NONSGML Events//EN
CALSCALE:GREGORIAN
X-ORIGINAL-URL:https://events.intrecht.de/termine/
X-WR-CALDESC:Events | FID-Recht - Events
BEGIN:VEVENT
UID:20230418T0648Z-1681800522.0292-EO-8200-1@172.16.200.151
STATUS:CONFIRMED
DTSTAMP:20260426T013256Z
CREATED:20230130T115659Z
LAST-MODIFIED:20230130T115732Z
DTSTART;VALUE=DATE:20230920
DTEND;VALUE=DATE:20230921
SUMMARY: Socio-Legal World Café am Vorabend des Drei-Länder-Kongresses der 
 deutschsprachigen Rechtssoziologie
DESCRIPTION: 20.9.2023 / Innsbruck (Anmeldefrist: 28.2.2023) https://easych
 air.org/smart-program/Innsbruck-2023/socio-legal-world-cafe.html  
X-ALT-DESC;FMTTYPE=text/html: <p>20.9.2023 / Innsbruck <strong>(Anmeldefris
 t: 28.2.2023)</strong></p><p><a href="https://easychair.org/smart-program/I
 nnsbruck-2023/socio-legal-world-cafe.html">https://easychair.org/smart-prog
 ram/Innsbruck-2023/socio-legal-world-cafe.html</a></p><p> </p><p>[av_button
  label='iCal-Export' link='./feed/eo-events' link_target='' size='small' po
 sition='center' label_display='' title_attr='' icon_select='yes' icon='ue85
 b' font='entypo-fontello' color='custom' custom_bg='#b5123e' custom_font='#
 ffffff' av_uid='' id='' custom_class='' admin_preview_bg='']</p>
CATEGORIES:Recht interdisziplinär
LOCATION:Ausland
GEO:0.000000;0.000000
ORGANIZER;CN="ViFa-Recht":MAILTO:vifa-recht@sbb.spk-berlin.de
URL;VALUE=URI:https://events.intrecht.de/termine/termin/socio-legal-world-c
 afe-am-vorabend-des-drei-laender-kongresses-der-deutschsprachigen-rechtssoz
 iologie/
END:VEVENT
BEGIN:VTIMEZONE
TZID:Europe/Berlin
BEGIN:DAYLIGHT
TZOFFSETFROM:+0100
TZOFFSETTO:+0200
DTSTART:20230326T010000
TZNAME:CEST
END:DAYLIGHT
END:VTIMEZONE
END:VCALENDAR
