BEGIN:VCALENDAR
VERSION:2.0
PRODID:-//Events | FID-Recht//NONSGML Events//EN
CALSCALE:GREGORIAN
X-ORIGINAL-URL:https://events.intrecht.de/termine/
X-WR-CALDESC:Events | FID-Recht - Events
BEGIN:VEVENT
UID:20200603T1418Z-1591193923.3362-EO-587-1@172.16.200.141
STATUS:CONFIRMED
DTSTAMP:20260422T175338Z
CREATED:20241202T172909Z
LAST-MODIFIED:20241202T172909Z
DTSTART;VALUE=DATE:20241204
DTEND;VALUE=DATE:20241205
SUMMARY: Socio-legal Trajectories across Europe: Comparative Perspectives (
 Hybrid Event / Book Launch)
DESCRIPTION: 4.12.2024 / Online und Lund https://www.soclaw.lu.se/en/calend
 ar/book-launch-socio-legal-trajectories-across-europe-comparative-perspecti
 ves
X-ALT-DESC;FMTTYPE=text/html: <p>4.12.2024 / Online und Lund</p><p><a href=
 "https://www.soclaw.lu.se/en/calendar/book-launch-socio-legal-trajectories-
 across-europe-comparative-perspectives">https://www.soclaw.lu.se/en/calenda
 r/book-launch-socio-legal-trajectories-across-europe-comparative-perspectiv
 es</a></p><p>[av_button label='iCal-Export' link='./feed/eo-events' link_ta
 rget='' size='small' position='center' label_display='' title_attr='' icon_
 select='yes' icon='ue85b' font='entypo-fontello' color='custom' custom_bg='
 #b5123e' custom_font='#ffffff' av_uid='' id='' custom_class='' admin_previe
 w_bg='']</p>
CATEGORIES:Recht interdisziplinär
LOCATION:Hybrid
GEO:0.000000;0.000000
ORGANIZER;CN="ViFa-Recht":MAILTO:vifa-recht@sbb.spk-berlin.de
URL;VALUE=URI:https://events.intrecht.de/termine/termin/socio-legal-traject
 ories-across-europe-comparative-perspectives-hybrid-event-book-launch/
END:VEVENT
BEGIN:VTIMEZONE
TZID:Europe/Berlin
BEGIN:STANDARD
TZOFFSETFROM:+0200
TZOFFSETTO:+0100
DTSTART:20241027T010000
TZNAME:CET
END:STANDARD
END:VTIMEZONE
END:VCALENDAR
