BEGIN:VCALENDAR
VERSION:2.0
PRODID:-//Events | FID-Recht//NONSGML Events//EN
CALSCALE:GREGORIAN
X-ORIGINAL-URL:https://events.intrecht.de/termine/
X-WR-CALDESC:Events | FID-Recht - Events
BEGIN:VEVENT
UID:20211218T1129Z-1639826997.4981-EO-5517-1@172.16.200.141
STATUS:CONFIRMED
DTSTAMP:20260425T180058Z
CREATED:20211216T112941Z
LAST-MODIFIED:20211216T112941Z
DTSTART;VALUE=DATE:20220107
DTEND;VALUE=DATE:20220107
SUMMARY: Socio-Legal Studies Association Conference (Tagung) (CfP)
DESCRIPTION: 6.-8.4.2022\, York (Frist für Einreichungen: 7.1.2022) SLSA Yo
 rk 2022 (slsa2022.co.uk)  
X-ALT-DESC;FMTTYPE=text/html: <p>6.-8.4.2022\, York (Frist für Einreichunge
 n: 7.1.2022)</p><p><a href="http://slsa2022.co.uk/site/">SLSA York 2022 (sl
 sa2022.co.uk)</a></p><p> </p><p>[av_button label='iCal-Export' link='./feed
 /eo-events' link_target='' size='small' position='center' label_display='' 
 title_attr='' icon_select='yes' icon='ue85b' font='entypo-fontello' color='
 custom' custom_bg='#b5123e' custom_font='#ffffff' av_uid='' id='' custom_cl
 ass='' admin_preview_bg='']</p>
CATEGORIES:Recht interdisziplinär
LOCATION:Ausland
GEO:0.000000;0.000000
ORGANIZER;CN="ViFa-Recht":MAILTO:vifa-recht@sbb.spk-berlin.de
URL;VALUE=URI:https://events.intrecht.de/termine/termin/socio-legal-studies
 -association-conference-tagung-cfp/
END:VEVENT
BEGIN:VTIMEZONE
TZID:Europe/Berlin
BEGIN:STANDARD
TZOFFSETFROM:+0200
TZOFFSETTO:+0100
DTSTART:20211031T010000
TZNAME:CET
END:STANDARD
END:VTIMEZONE
END:VCALENDAR
