BEGIN:VCALENDAR
VERSION:2.0
PRODID:-//Events | FID-Recht//NONSGML Events//EN
CALSCALE:GREGORIAN
X-ORIGINAL-URL:https://events.intrecht.de/termine/
X-WR-CALDESC:Events | FID-Recht - Events
BEGIN:VEVENT
UID:20200603T1418Z-1591193923.3362-EO-587-1@172.16.200.141
STATUS:CONFIRMED
DTSTAMP:20260422T154616Z
CREATED:20231219T120928Z
LAST-MODIFIED:20231219T120928Z
DTSTART;VALUE=DATE:20240527
DTEND;VALUE=DATE:20240529
SUMMARY: Socio-economic rights and non-discrimination at the intersection o
 f the market\, the border\, and the welfare state (Workshop)
DESCRIPTION: 27.-28.5.2024 / Lund (Einreichungsfrist: 22.1.2024) https://ww
 w.jur.lu.se/sites/jur.lu.se/files/2023-12/Call%20for%20Papers%20Socioeconom
 ic%20rights%20published.pdf
X-ALT-DESC;FMTTYPE=text/html: <p>27.-28.5.2024 / Lund <strong>(Einreichungs
 frist: 22.1.2024)</strong></p><p><a href="https://www.jur.lu.se/sites/jur.l
 u.se/files/2023-12/Call%20for%20Papers%20Socioeconomic%20rights%20published
 .pdf">https://www.jur.lu.se/sites/jur.lu.se/files/2023-12/Call%20for%20Pape
 rs%20Socioeconomic%20rights%20published.pdf</a></p><p>[av_button label='iCa
 l-Export' link='./feed/eo-events' link_target='' size='small' position='cen
 ter' label_display='' title_attr='' icon_select='yes' icon='ue85b' font='en
 typo-fontello' color='custom' custom_bg='#b5123e' custom_font='#ffffff' av_
 uid='' id='' custom_class='' admin_preview_bg='']</p>
CATEGORIES:Recht interdisziplinär
LOCATION:Ausland
GEO:0.000000;0.000000
ORGANIZER;CN="ViFa-Recht":MAILTO:vifa-recht@sbb.spk-berlin.de
URL;VALUE=URI:https://events.intrecht.de/termine/termin/socio-economic-righ
 ts-and-non-discrimination-at-the-intersection-of-the-market-the-border-and-
 the-welfare-state-workshop/
END:VEVENT
BEGIN:VTIMEZONE
TZID:Europe/Berlin
BEGIN:DAYLIGHT
TZOFFSETFROM:+0100
TZOFFSETTO:+0200
DTSTART:20240331T010000
TZNAME:CEST
END:DAYLIGHT
END:VTIMEZONE
END:VCALENDAR
