BEGIN:VCALENDAR
VERSION:2.0
PRODID:-//Events | FID-Recht//NONSGML Events//EN
CALSCALE:GREGORIAN
X-ORIGINAL-URL:https://events.intrecht.de/termine/
X-WR-CALDESC:Events | FID-Recht - Events
BEGIN:VEVENT
UID:20200603T1418Z-1591193923.3362-EO-587-1@172.16.200.141
STATUS:CONFIRMED
DTSTAMP:20260425T234613Z
CREATED:20230330T094233Z
LAST-MODIFIED:20230330T094233Z
DTSTART;VALUE=DATE:20231005
DTEND;VALUE=DATE:20231007
SUMMARY: Social Movement & Conflict Research in Dialogue: Interdisciplinary
  Perspectives on Violence\, Resistance & Mobilisation (Tagung)
DESCRIPTION: 5.-6.10.2023 / Berlin https://protestinstitut.eu/veranstaltung
 en_uberblick/jahrestagung-2023/
X-ALT-DESC;FMTTYPE=text/html: <p>5.-6.10.2023 / Berlin</p><p><a href="https
 ://protestinstitut.eu/veranstaltungen_uberblick/jahrestagung-2023/">https:/
 /protestinstitut.eu/veranstaltungen_uberblick/jahrestagung-2023/</a></p><p>
 [av_button label='iCal-Export' link='./feed/eo-events' link_target='' size=
 'small' position='center' label_display='' title_attr='' icon_select='yes' 
 icon='ue85b' font='entypo-fontello' color='custom' custom_bg='#b5123e' cust
 om_font='#ffffff' av_uid='' id='' custom_class='' admin_preview_bg='']</p>
CATEGORIES:Recht interdisziplinär
LOCATION:Inland
GEO:0.000000;0.000000
ORGANIZER;CN="ViFa-Recht":MAILTO:vifa-recht@sbb.spk-berlin.de
URL;VALUE=URI:https://events.intrecht.de/termine/termin/social-movement-con
 flict-research-in-dialogue-interdisciplinary-perspectives-on-violence-resis
 tance-mobilisation-tagung/
END:VEVENT
BEGIN:VTIMEZONE
TZID:Europe/Berlin
BEGIN:DAYLIGHT
TZOFFSETFROM:+0100
TZOFFSETTO:+0200
DTSTART:20230326T010000
TZNAME:CEST
END:DAYLIGHT
END:VTIMEZONE
END:VCALENDAR
