BEGIN:VCALENDAR
VERSION:2.0
PRODID:-//Events | FID-Recht//NONSGML Events//EN
CALSCALE:GREGORIAN
X-ORIGINAL-URL:https://events.intrecht.de/termine/
X-WR-CALDESC:Events | FID-Recht - Events
BEGIN:VEVENT
UID:20200603T1418Z-1591193923.3362-EO-587-1@172.16.200.141
STATUS:CONFIRMED
DTSTAMP:20260426T013044Z
CREATED:20230613T140834Z
LAST-MODIFIED:20230613T140834Z
DTSTART;VALUE=DATE:20240307
DTEND;VALUE=DATE:20240309
SUMMARY: Social History of Civil Justice\, 19-21st Centuries (International
  Workshop)
DESCRIPTION: 7.-8.3.2024 / Wien (Frist für Einreichungen: 31.10.2023) https
 ://soziologie.de/fileadmin/user_upload/calls/2023/05/CfP_Social_History_of_
 Justice.pdf
X-ALT-DESC;FMTTYPE=text/html: <p>7.-8.3.2024 / Wien <strong>(Frist für Einr
 eichungen: 31.10.2023)</strong></p><p><a href="https://soziologie.de/filead
 min/user_upload/calls/2023/05/CfP_Social_History_of_Justice.pdf">https://so
 ziologie.de/fileadmin/user_upload/calls/2023/05/CfP_Social_History_of_Justi
 ce.pdf</a></p><p>[av_button label='iCal-Export' link='./feed/eo-events' lin
 k_target='' size='small' position='center' label_display='' title_attr='' i
 con_select='yes' icon='ue85b' font='entypo-fontello' color='custom' custom_
 bg='#b5123e' custom_font='#ffffff' av_uid='' id='' custom_class='' admin_pr
 eview_bg='']</p>
CATEGORIES:Recht interdisziplinär
LOCATION:Ausland
GEO:0.000000;0.000000
ORGANIZER;CN="ViFa-Recht":MAILTO:vifa-recht@sbb.spk-berlin.de
URL;VALUE=URI:https://events.intrecht.de/termine/termin/social-history-of-c
 ivil-justice-19-21st-centuries-international-workshop/
END:VEVENT
BEGIN:VTIMEZONE
TZID:Europe/Berlin
BEGIN:STANDARD
TZOFFSETFROM:+0200
TZOFFSETTO:+0100
DTSTART:20231029T010000
TZNAME:CET
END:STANDARD
END:VTIMEZONE
END:VCALENDAR
