BEGIN:VCALENDAR
VERSION:2.0
PRODID:-//Events | FID-Recht//NONSGML Events//EN
CALSCALE:GREGORIAN
X-ORIGINAL-URL:https://events.intrecht.de/termine/
X-WR-CALDESC:Events | FID-Recht - Events
BEGIN:VEVENT
UID:20220325T1847Z-1648234064.0944-EO-5288-1@172.16.200.141
STATUS:CONFIRMED
DTSTAMP:20260422T054138Z
CREATED:20220322T135317Z
LAST-MODIFIED:20220322T135317Z
DTSTART;TZID=Europe/Berlin:20220427T183000
DTEND;TZID=Europe/Berlin:20220427T200000
SUMMARY: Sind humanitäre Interventionen gerechtfertigt? (2. Potsdamer Mensc
 henRechtsDebatte)
DESCRIPTION: 27.4.2022\, Potsdam https://www.uni-potsdam.de/fileadmin/proje
 cts/mrz/images/MRZ-Plakat-2Potsdamer_MenschRechtsDebatte.pdf  
X-ALT-DESC;FMTTYPE=text/html: <p>27.4.2022\, Potsdam</p><p><a href="https:/
 /www.uni-potsdam.de/fileadmin/projects/mrz/images/MRZ-Plakat-2Potsdamer_Men
 schRechtsDebatte.pdf">https://www.uni-potsdam.de/fileadmin/projects/mrz/ima
 ges/MRZ-Plakat-2Potsdamer_MenschRechtsDebatte.pdf</a></p><p> </p><p>[av_but
 ton label='iCal-Export' link='./feed/eo-events' link_target='' size='small'
  position='center' label_display='' title_attr='' icon_select='yes' icon='u
 e85b' font='entypo-fontello' color='custom' custom_bg='#b5123e' custom_font
 ='#ffffff' av_uid='' id='' custom_class='' admin_preview_bg='']</p>
CATEGORIES:Europäisches / Internationales Recht
LOCATION:Inland
GEO:0.000000;0.000000
ORGANIZER;CN="ViFa-Recht":MAILTO:vifa-recht@sbb.spk-berlin.de
URL;VALUE=URI:https://events.intrecht.de/termine/termin/sind-humanitaere-in
 terventionen-gerechtfertigt-2-potsdamer-menschenrechtsdebatte/
END:VEVENT
BEGIN:VTIMEZONE
TZID:Europe/Berlin
BEGIN:DAYLIGHT
TZOFFSETFROM:+0100
TZOFFSETTO:+0200
DTSTART:20220327T010000
TZNAME:CEST
END:DAYLIGHT
END:VTIMEZONE
END:VCALENDAR
