BEGIN:VCALENDAR
VERSION:2.0
PRODID:-//Events | FID-Recht//NONSGML Events//EN
CALSCALE:GREGORIAN
X-ORIGINAL-URL:https://events.intrecht.de/termine/
X-WR-CALDESC:Events | FID-Recht - Events
BEGIN:VEVENT
UID:20200513T1421Z-1589379715.7817-EO-417-1@172.16.200.141
STATUS:CONFIRMED
DTSTAMP:20260421T102415Z
CREATED:20200512T163551Z
LAST-MODIFIED:20200520T072823Z
DTSTART;VALUE=DATE:20200615
DTEND;VALUE=DATE:20200616
SUMMARY: Sicherheits- und Strafrecht im Angesicht der Digitalisierung (Call
 )
DESCRIPTION: Die technologische Entwicklung und das Aufkommen neuer Formen 
 der Tatbegehung und Ermittlungsmethoden steigern den Forschungsbedarf zur D
 igitalisierung im Sicherheits- und Strafrecht rasant. Relevante Themen sind
  unter anderem: • Cyberkriminalität • Digitale Ermittlungsmethoden • Grenzü
 berschreitende Ermittlungsmethoden • Digitale Arbeit von Polizei- und Siche
 rheitsbehörden • IT-Sicherheitsrecht Wir laden junge Wissenschaftler*innen\
 , die zur Digitalisierung im Sicherheits- und Strafrecht […]
X-ALT-DESC;FMTTYPE=text/html: <p class="summary">Die technologische Entwick
 lung und das Aufkommen neuer Formen der Tatbegehung und Ermittlungsmethoden
  steigern den Forschungsbedarf zur Digitalisierung im Sicherheits- und Stra
 frecht rasant. Relevante Themen sind unter anderem:</p><p class="summary">•
  Cyberkriminalität<br />• Digitale Ermittlungsmethoden<br />• Grenzüberschr
 eitende Ermittlungsmethoden<br />• Digitale Arbeit von Polizei- und Sicherh
 eitsbehörden<br />• IT-Sicherheitsrecht</p><p class="summary">Wir laden jun
 ge Wissenschaftler*innen\, die zur Digitalisierung im Sicherheits- und Stra
 frecht inklusive des jeweiligen Prozessrechts forschen\, zu einem fachliche
 n Austausch ein. Es sind nicht nur Jurist*innen\, sondern auch Kriminolog*i
 nnen\, Informatiker*innen\, Sicherheitsforscher*innen und Vertreter*innen w
 eiterer Disziplinen herzlich willkommen.</p><p class="summary">Der Workshop
  soll der jungen  Wissenschaft eine Plattform geben\, um eine Übersicht übe
 r aktuelle Forschungsthemen zu gewinnen und hierdurch einen zusammenhängend
 en Diskurs zu ermöglichen. Teilnehmer*innen geben wir die Möglichkeit\, sic
 h und insbesondere ihre Forschungsinteressen in Kurzvorträgen (10 Min.) mit
  anschließender (moderierter) Diskussion vorzustellen. Auch ohne einen Vort
 rag bietet der Workshop die Gelegenheit\, sich zu vernetzen und in einen da
 uerhaften Dialog einzutreten.</p><p class="summary">Nach einem erfolgreiche
 n Auftakt in Berlin (<a href="https://kripoz.de/wp-content/uploads/2019/09/
 selzer-tagungsbericht-sicherheits-und-strafrecht-im-angesicht-der-digitalis
 ierung.pdf">Selzer\, KriPoZ 2019\, 320-322</a>) wird der 2. Workshop aufgru
 nd der aktuellen Lage am 17.07.2020 in digitaler Form stattfinden. Einleite
 nd wird der IT-Sicherheitsexperte und Bevollmächtigte des Saarlandes für In
 novation und Strategie sowie Landes-CIO\, Herr Ammar Alkassar\, einen Impul
 svortrag halten. In den Pausen sollen Breakout-Sessions in Kleingruppen für
  ein besseres Networking und individuellen Austausch sorgen.</p><p class="s
 ummary">Interessierte bewerben sich mit einem Kurzlebenslauf und einer präg
 nanten Darstellung ihrer aktuellen Forschungsfragen (max. eine Seite) bis z
 um 15.06.2020. Zu- und Absagen sowie das vorläufige Programm werden bis zum
  30.06.2020 mitgeteilt. Bewerbungen und Fragen können an <a href="mailto:ne
 tzwerk-it-recht@jura.uni-halle.de">netzwerk-it-recht@jura.uni-halle.de</a> 
 gerichtet werden.</p><p class="summary">Über eine Weiterverbreitung dieses 
 CfP freuen wir uns.</p><p class="summary">• 15.06.2020 Anmeldeschluss<br />
 • 30.06.2020 Zu- und Absagen\, ggf. Terminvereinbarung für einen Probelauf<
 br />• 17.07.2020 Workshop</p><p class="summary">Jannik Piepenburg & Nicole
  Selzer</p><p> </p><p><a href="https://wcms.itz.uni-halle.de/download.php?d
 own=54888&elem=3281775">https://wcms.itz.uni-halle.de/download.php?down=548
 88&elem=3281775</a></p><p> </p><p>https://events.intrecht.de/termine/termin
 /sicherheits-und-strafrecht-im-angesicht-der-digitalisierung/</p><p>[av_but
 ton label='iCal-Export' link='./feed/eo-events' link_target='' size='small'
  position='center' label_display='' title_attr='' icon_select='yes' icon='u
 e85b' font='entypo-fontello' color='custom' custom_bg='#b5123e' custom_font
 ='#ffffff' av_uid='' id='' custom_class='' admin_preview_bg='']</p>
CATEGORIES:Recht interdisziplinär,Strafrecht
LOCATION:Online
GEO:0.000000;0.000000
ORGANIZER;CN="ViFa-Recht":MAILTO:vifa-recht@sbb.spk-berlin.de
URL;VALUE=URI:https://events.intrecht.de/termine/termin/sicherheits-und-str
 afrecht-im-angesicht-der-digitalisierung-call/
END:VEVENT
BEGIN:VTIMEZONE
TZID:Europe/Berlin
BEGIN:DAYLIGHT
TZOFFSETFROM:+0100
TZOFFSETTO:+0200
DTSTART:20200329T010000
TZNAME:CEST
END:DAYLIGHT
END:VTIMEZONE
END:VCALENDAR
