BEGIN:VCALENDAR
VERSION:2.0
PRODID:-//Events | FID-Recht//NONSGML Events//EN
CALSCALE:GREGORIAN
X-ORIGINAL-URL:https://events.intrecht.de/termine/
X-WR-CALDESC:Events | FID-Recht - Events
BEGIN:VEVENT
UID:20200603T1418Z-1591193923.3362-EO-587-1@172.16.200.141
STATUS:CONFIRMED
DTSTAMP:20260425T232658Z
CREATED:20250623T081103Z
LAST-MODIFIED:20250623T081103Z
DTSTART;VALUE=DATE:20250826
DTEND;VALUE=DATE:20250827
SUMMARY: Sichere und vertrauenswürdige Datenräume: Chancen und Herausforder
 ungen (Tagung für Informatik und Recht)
DESCRIPTION: 26.8.2025 / Bern https://ejustice.ch/tagung-fuer-informatik-un
 d-recht/
X-ALT-DESC;FMTTYPE=text/html: <p>26.8.2025 / Bern</p><p><a href="https://ej
 ustice.ch/tagung-fuer-informatik-und-recht/">https://ejustice.ch/tagung-fue
 r-informatik-und-recht/</a></p><p>[av_button label='iCal-Export' link='./fe
 ed/eo-events' link_target='' size='small' position='center' label_display='
 ' title_attr='' icon_select='yes' icon='ue85b' font='entypo-fontello' color
 ='custom' custom_bg='#b5123e' custom_font='#ffffff' av_uid='' id='' custom_
 class='' admin_preview_bg='']</p>
CATEGORIES:Recht interdisziplinär
LOCATION:Ausland
GEO:0.000000;0.000000
ORGANIZER;CN="ViFa-Recht":MAILTO:vifa-recht@sbb.spk-berlin.de
URL;VALUE=URI:https://events.intrecht.de/termine/termin/sichere-und-vertrau
 enswuerdige-datenraeume-chancen-und-herausforderungen-tagung-fuer-informati
 k-und-recht/
END:VEVENT
BEGIN:VTIMEZONE
TZID:Europe/Berlin
BEGIN:DAYLIGHT
TZOFFSETFROM:+0100
TZOFFSETTO:+0200
DTSTART:20250330T010000
TZNAME:CEST
END:DAYLIGHT
END:VTIMEZONE
END:VCALENDAR
