BEGIN:VCALENDAR
VERSION:2.0
PRODID:-//Events | FID-Recht//NONSGML Events//EN
CALSCALE:GREGORIAN
X-ORIGINAL-URL:https://events.intrecht.de/termine/
X-WR-CALDESC:Events | FID-Recht - Events
BEGIN:VEVENT
UID:20210910T0925Z-1631265943.7894-EO-4420-1@172.16.200.141
STATUS:CONFIRMED
DTSTAMP:20260423T071509Z
CREATED:20210907T075908Z
LAST-MODIFIED:20210907T075908Z
DTSTART;VALUE=DATE:20211013
DTEND;VALUE=DATE:20211014
SUMMARY: Sicher leben in der Stadt der Zukunft (24. Berliner Kolloquium) (K
 onferenz)
DESCRIPTION: 13.10.2021\, Berlin Daimler und Benz Stiftung – „Sicher leben 
 in der Stadt der Zukunft“ (daimler-benz-stiftung.de)  
X-ALT-DESC;FMTTYPE=text/html: <p>13.10.2021\, Berlin</p><p><a href="https:/
 /www.daimler-benz-stiftung.de/cms/de/erfahren/berliner-kolloquium/357-siche
 r-leben-in-der-stadt-der-zukunft-2.html">Daimler und Benz Stiftung - „Siche
 r leben in der Stadt der Zukunft“ (daimler-benz-stiftung.de)</a></p><p> </p
 ><p>[av_button label='iCal-Export' link='./feed/eo-events' link_target='' s
 ize='small' position='center' label_display='' title_attr='' icon_select='y
 es' icon='ue85b' font='entypo-fontello' color='custom' custom_bg='#b5123e' 
 custom_font='#ffffff' av_uid='' id='' custom_class='' admin_preview_bg='']<
 /p>
CATEGORIES:Öffentliches Recht,Recht interdisziplinär,Strafrecht
LOCATION:Inland
GEO:0.000000;0.000000
ORGANIZER;CN="ViFa-Recht":MAILTO:vifa-recht@sbb.spk-berlin.de
URL;VALUE=URI:https://events.intrecht.de/termine/termin/sicher-leben-in-der
 -stadt-der-zukunft-24-berliner-kolloquium-konferenz/
END:VEVENT
BEGIN:VTIMEZONE
TZID:Europe/Berlin
BEGIN:DAYLIGHT
TZOFFSETFROM:+0100
TZOFFSETTO:+0200
DTSTART:20210328T010000
TZNAME:CEST
END:DAYLIGHT
END:VTIMEZONE
END:VCALENDAR
