BEGIN:VCALENDAR
VERSION:2.0
PRODID:-//Events | FID-Recht//NONSGML Events//EN
CALSCALE:GREGORIAN
X-ORIGINAL-URL:https://events.intrecht.de/termine/
X-WR-CALDESC:Events | FID-Recht - Events
BEGIN:VEVENT
UID:20200603T1418Z-1591193923.3362-EO-587-1@172.16.200.141
STATUS:CONFIRMED
DTSTAMP:20260425T144056Z
CREATED:20250401T104208Z
LAST-MODIFIED:20250401T104208Z
DTSTART;VALUE=DATE:20251212
DTEND;VALUE=DATE:20251213
SUMMARY: Shifting institutional dynamics in EU external relations (Conferen
 ce)
DESCRIPTION: 12.12.2025 / Den Haag (Einreichungsfrist: 30.4.2025) https://w
 ww.asser.nl/media/797729/cfp-cleerconference2025-1.pdf
X-ALT-DESC;FMTTYPE=text/html: <p>12.12.2025 / Den Haag <strong>(Einreichung
 sfrist: 30.4.2025)</strong></p><p><a href="https://www.asser.nl/media/79772
 9/cfp-cleerconference2025-1.pdf">https://www.asser.nl/media/797729/cfp-clee
 rconference2025-1.pdf</a></p><p>[av_button label='iCal-Export' link='./feed
 /eo-events' link_target='' size='small' position='center' label_display='' 
 title_attr='' icon_select='yes' icon='ue85b' font='entypo-fontello' color='
 custom' custom_bg='#b5123e' custom_font='#ffffff' av_uid='' id='' custom_cl
 ass='' admin_preview_bg='']</p>
CATEGORIES:Europäisches / Internationales Recht
LOCATION:Ausland
GEO:0.000000;0.000000
ORGANIZER;CN="ViFa-Recht":MAILTO:vifa-recht@sbb.spk-berlin.de
URL;VALUE=URI:https://events.intrecht.de/termine/termin/shifting-institutio
 nal-dynamics-in-eu-external-relations-conference/
END:VEVENT
BEGIN:VTIMEZONE
TZID:Europe/Berlin
BEGIN:STANDARD
TZOFFSETFROM:+0200
TZOFFSETTO:+0100
DTSTART:20251026T010000
TZNAME:CET
END:STANDARD
END:VTIMEZONE
END:VCALENDAR
