BEGIN:VCALENDAR
VERSION:2.0
PRODID:-//Events | FID-Recht//NONSGML Events//EN
CALSCALE:GREGORIAN
X-ORIGINAL-URL:https://events.intrecht.de/termine/
X-WR-CALDESC:Events | FID-Recht - Events
BEGIN:VEVENT
UID:20200603T1418Z-1591193923.3362-EO-587-1@172.16.200.141
STATUS:CONFIRMED
DTSTAMP:20260425T181330Z
CREATED:20231116T125110Z
LAST-MODIFIED:20231116T125110Z
DTSTART;VALUE=DATE:20231130
DTEND;VALUE=DATE:20231201
SUMMARY: Sharīʿa\, droit musulman\, and Colonial Legality: The Conflict of 
 “Paternity Claim” (istilḥāq) in Colonial-Era Moroccan Courts (Hybrid Event 
 / Afternoon Talk on Islamic Law)
DESCRIPTION: 30.11.2023 / Online und Hamburg https://events.mpipriv.de/afte
 rnoon_talk_ari_schriber
X-ALT-DESC;FMTTYPE=text/html: <p>30.11.2023 / Online und Hamburg</p><p><a h
 ref="https://events.mpipriv.de/afternoon_talk_ari_schriber">https://events.
 mpipriv.de/afternoon_talk_ari_schriber</a></p><p>[av_button label='iCal-Exp
 ort' link='./feed/eo-events' link_target='' size='small' position='center' 
 label_display='' title_attr='' icon_select='yes' icon='ue85b' font='entypo-
 fontello' color='custom' custom_bg='#b5123e' custom_font='#ffffff' av_uid='
 ' id='' custom_class='' admin_preview_bg='']</p>
CATEGORIES:Recht interdisziplinär
LOCATION:Online
GEO:0.000000;0.000000
ORGANIZER;CN="ViFa-Recht":MAILTO:vifa-recht@sbb.spk-berlin.de
URL;VALUE=URI:https://events.intrecht.de/termine/termin/shari%ca%bfa-droit-
 musulman-and-colonial-legality-the-conflict-of-paternity-claim-istil%e1%b8%
 a5aq-in-colonial-era-moroccan-courts-hybrid-event-afternoon-talk-on-islamic
 -law/
END:VEVENT
BEGIN:VTIMEZONE
TZID:Europe/Berlin
BEGIN:STANDARD
TZOFFSETFROM:+0200
TZOFFSETTO:+0100
DTSTART:20231029T010000
TZNAME:CET
END:STANDARD
END:VTIMEZONE
END:VCALENDAR
