BEGIN:VCALENDAR
VERSION:2.0
PRODID:-//Events | FID-Recht//NONSGML Events//EN
CALSCALE:GREGORIAN
X-ORIGINAL-URL:https://events.intrecht.de/termine/
X-WR-CALDESC:Events | FID-Recht - Events
BEGIN:VEVENT
UID:20200603T1418Z-1591193923.3362-EO-587-1@172.16.200.141
STATUS:CONFIRMED
DTSTAMP:20260422T090826Z
CREATED:20240205T143559Z
LAST-MODIFIED:20240205T143559Z
DTSTART;VALUE=DATE:20240530
DTEND;VALUE=DATE:20240601
SUMMARY: Shaping Climate Law: Dynamic Roles of State and Non-State Actors (
 Conference)
DESCRIPTION: 30.-31.5.2024 / Prag (Einreichungsfrist: 29.2.2024) https://ww
 w.ilaw.cas.cz/vyzkum/class/international-climate-law-conference-2024.html
X-ALT-DESC;FMTTYPE=text/html: <p>30.-31.5.2024 / Prag <strong>(Einreichungs
 frist: 29.2.2024)</strong></p><p><a href="https://www.ilaw.cas.cz/vyzkum/cl
 ass/international-climate-law-conference-2024.html">https://www.ilaw.cas.cz
 /vyzkum/class/international-climate-law-conference-2024.html</a></p><p>[av_
 button label='iCal-Export' link='./feed/eo-events' link_target='' size='sma
 ll' position='center' label_display='' title_attr='' icon_select='yes' icon
 ='ue85b' font='entypo-fontello' color='custom' custom_bg='#b5123e' custom_f
 ont='#ffffff' av_uid='' id='' custom_class='' admin_preview_bg='']</p>
CATEGORIES:Recht interdisziplinär
LOCATION:Ausland
GEO:0.000000;0.000000
ORGANIZER;CN="ViFa-Recht":MAILTO:vifa-recht@sbb.spk-berlin.de
URL;VALUE=URI:https://events.intrecht.de/termine/termin/shaping-climate-law
 -dynamic-roles-of-state-and-non-state-actors-conference/
END:VEVENT
BEGIN:VTIMEZONE
TZID:Europe/Berlin
BEGIN:DAYLIGHT
TZOFFSETFROM:+0100
TZOFFSETTO:+0200
DTSTART:20240331T010000
TZNAME:CEST
END:DAYLIGHT
END:VTIMEZONE
END:VCALENDAR
