BEGIN:VCALENDAR
VERSION:2.0
PRODID:-//Events | FID-Recht//NONSGML Events//EN
CALSCALE:GREGORIAN
X-ORIGINAL-URL:https://events.intrecht.de/termine/
X-WR-CALDESC:Events | FID-Recht - Events
BEGIN:VEVENT
UID:20230420T1533Z-1682004807.5932-EO-8320-1@172.16.200.151
STATUS:CONFIRMED
DTSTAMP:20260425T201129Z
CREATED:20230207T162446Z
LAST-MODIFIED:20230207T162446Z
DTSTART;VALUE=DATE:20230614
DTEND;VALUE=DATE:20230615
SUMMARY: Sexuality\, Nationality and Asylum: The New Plan for Immigration (
 One-day Symposium)
DESCRIPTION: 14.6.2023 / Oxford (Frist für Einreichungen: 31.3.2023 / Anmel
 defrist: 28.4.2023) https://mcusercontent.com/47624183ad52dd8428c97d3f6/fil
 es/6f3b70cd-1e2b-ebe9-199f-5ecd89a4c9ca/Symposium_Call_for_Papers_PDF_Final
 .pdf  
X-ALT-DESC;FMTTYPE=text/html: <p>14.6.2023 / Oxford <strong>(Frist für Einr
 eichungen: 31.3.2023 / Anmeldefrist: 28.4.2023)</strong></p><p><a href="htt
 ps://mcusercontent.com/47624183ad52dd8428c97d3f6/files/6f3b70cd-1e2b-ebe9-1
 99f-5ecd89a4c9ca/Symposium_Call_for_Papers_PDF_Final.pdf">https://mcusercon
 tent.com/47624183ad52dd8428c97d3f6/files/6f3b70cd-1e2b-ebe9-199f-5ecd89a4c9
 ca/Symposium_Call_for_Papers_PDF_Final.pdf</a></p><p> </p><p>[av_button lab
 el='iCal-Export' link='./feed/eo-events' link_target='' size='small' positi
 on='center' label_display='' title_attr='' icon_select='yes' icon='ue85b' f
 ont='entypo-fontello' color='custom' custom_bg='#b5123e' custom_font='#ffff
 ff' av_uid='' id='' custom_class='' admin_preview_bg='']</p>
CATEGORIES:Recht interdisziplinär
LOCATION:Ausland
GEO:0.000000;0.000000
ORGANIZER;CN="ViFa-Recht":MAILTO:vifa-recht@sbb.spk-berlin.de
URL;VALUE=URI:https://events.intrecht.de/termine/termin/sexuality-nationali
 ty-and-asylum-the-new-plan-for-immigration-one-day-symposium/
END:VEVENT
BEGIN:VTIMEZONE
TZID:Europe/Berlin
BEGIN:DAYLIGHT
TZOFFSETFROM:+0100
TZOFFSETTO:+0200
DTSTART:20230326T010000
TZNAME:CEST
END:DAYLIGHT
END:VTIMEZONE
END:VCALENDAR
