BEGIN:VCALENDAR
VERSION:2.0
PRODID:-//Events | FID-Recht//NONSGML Events//EN
CALSCALE:GREGORIAN
X-ORIGINAL-URL:https://events.intrecht.de/termine/
X-WR-CALDESC:Events | FID-Recht - Events
BEGIN:VEVENT
UID:20200603T1418Z-1591193923.3362-EO-587-1@172.16.200.141
STATUS:CONFIRMED
DTSTAMP:20260423T073049Z
CREATED:20250407T142058Z
LAST-MODIFIED:20250407T142058Z
DTSTART;VALUE=DATE:20250721
DTEND;VALUE=DATE:20250726
SUMMARY: Sexual Orientation & Gender Identity in International Law (Summer 
 School)
DESCRIPTION: 21.-25.7.2025 / Leiden (Bewerbungsfrist: 15.5.2025) https://ww
 w.universiteitleiden.nl/en/education/study-programmes/summer-schools/sexual
 -orientation-and-gender-identity-in-international-law-human-rights-and-beyo
 nd/topics-of-discussion
X-ALT-DESC;FMTTYPE=text/html: <p>21.-25.7.2025 / Leiden <strong>(Bewerbungs
 frist: 15.5.2025)</strong></p><p><a href="https://www.universiteitleiden.nl
 /en/education/study-programmes/summer-schools/sexual-orientation-and-gender
 -identity-in-international-law-human-rights-and-beyond/topics-of-discussion
 ">https://www.universiteitleiden.nl/en/education/study-programmes/summer-sc
 hools/sexual-orientation-and-gender-identity-in-international-law-human-rig
 hts-and-beyond/topics-of-discussion</a></p><p>[av_button label='iCal-Export
 ' link='./feed/eo-events' link_target='' size='small' position='center' lab
 el_display='' title_attr='' icon_select='yes' icon='ue85b' font='entypo-fon
 tello' color='custom' custom_bg='#b5123e' custom_font='#ffffff' av_uid='' i
 d='' custom_class='' admin_preview_bg='']</p>
CATEGORIES:Recht interdisziplinär
LOCATION:Ausland
GEO:0.000000;0.000000
ORGANIZER;CN="ViFa-Recht":MAILTO:vifa-recht@sbb.spk-berlin.de
URL;VALUE=URI:https://events.intrecht.de/termine/termin/sexual-orientation-
 gender-identity-in-international-law-summer-school/
END:VEVENT
BEGIN:VTIMEZONE
TZID:Europe/Berlin
BEGIN:DAYLIGHT
TZOFFSETFROM:+0100
TZOFFSETTO:+0200
DTSTART:20250330T010000
TZNAME:CEST
END:DAYLIGHT
END:VTIMEZONE
END:VCALENDAR
