BEGIN:VCALENDAR
VERSION:2.0
PRODID:-//Events | FID-Recht//NONSGML Events//EN
CALSCALE:GREGORIAN
X-ORIGINAL-URL:https://events.intrecht.de/termine/
X-WR-CALDESC:Events | FID-Recht - Events
BEGIN:VEVENT
UID:20220320T0210Z-1647742241.8787-EO-5038-1@172.16.200.141
STATUS:CONFIRMED
DTSTAMP:20260422T143543Z
CREATED:20220316T180154Z
LAST-MODIFIED:20220316T180154Z
DTSTART;TZID=Europe/Berlin:20220317T170000
DTEND;TZID=Europe/Berlin:20220317T183000
SUMMARY: Sex – Intimitäten zwischen Normen\, Macht und affektivem Exzess (m
 it bzw. von Paula-Irene Villa Braslavsky) (Online-Vortrag)
DESCRIPTION: 17.3.2022\, Online Vortrag von Prof. Dr. Paula-Irene Villa Bra
 slavsky – YouTube  
X-ALT-DESC;FMTTYPE=text/html: <p>17.3.2022\, Online</p><p><a href="https://
 www.youtube.com/watch?v=4uVtjLdfV9g">Vortrag von Prof. Dr. Paula-Irene Vill
 a Braslavsky - YouTube</a></p><p> </p><p>[av_button label='iCal-Export' lin
 k='./feed/eo-events' link_target='' size='small' position='center' label_di
 splay='' title_attr='' icon_select='yes' icon='ue85b' font='entypo-fontello
 ' color='custom' custom_bg='#b5123e' custom_font='#ffffff' av_uid='' id='' 
 custom_class='' admin_preview_bg='']</p>
CATEGORIES:Recht interdisziplinär
LOCATION:Online
GEO:0.000000;0.000000
ORGANIZER;CN="ViFa-Recht":MAILTO:vifa-recht@sbb.spk-berlin.de
URL;VALUE=URI:https://events.intrecht.de/termine/termin/sex-intimitaeten-zw
 ischen-normen-macht-und-affektivem-exzess-mit-bzw-von-paula-irene-villa-bra
 slavsky-online-vortrag/
END:VEVENT
BEGIN:VTIMEZONE
TZID:Europe/Berlin
BEGIN:STANDARD
TZOFFSETFROM:+0200
TZOFFSETTO:+0100
DTSTART:20211031T010000
TZNAME:CET
END:STANDARD
END:VTIMEZONE
END:VCALENDAR
