BEGIN:VCALENDAR
VERSION:2.0
PRODID:-//Events | FID-Recht//NONSGML Events//EN
CALSCALE:GREGORIAN
X-ORIGINAL-URL:https://events.intrecht.de/termine/
X-WR-CALDESC:Events | FID-Recht - Events
BEGIN:VEVENT
UID:20200603T1418Z-1591193923.3362-EO-587-1@172.16.200.141
STATUS:CONFIRMED
DTSTAMP:20260425T164742Z
CREATED:20230411T100044Z
LAST-MODIFIED:20230411T100044Z
DTSTART;VALUE=DATE:20230621
DTEND;VALUE=DATE:20230624
SUMMARY: Seventh ESCLH (European Society for Comparative Legal History) Bie
 nnial Conference
DESCRIPTION: 21.-23.6.2023 / Augsburg (Anmeldefrist: 21.5.2023) https://www
 .uni-augsburg.de/de/fakultaet/jura/lehrende/hellwege/seventh_esclh_conferen
 ce_2023/
X-ALT-DESC;FMTTYPE=text/html: <p>21.-23.6.2023 / Augsburg <strong>(Anmeldef
 rist: 21.5.2023)</strong></p><p><a href="https://www.uni-augsburg.de/de/fak
 ultaet/jura/lehrende/hellwege/seventh_esclh_conference_2023/">https://www.u
 ni-augsburg.de/de/fakultaet/jura/lehrende/hellwege/seventh_esclh_conference
 _2023/</a></p><p>[av_button label='iCal-Export' link='./feed/eo-events' lin
 k_target='' size='small' position='center' label_display='' title_attr='' i
 con_select='yes' icon='ue85b' font='entypo-fontello' color='custom' custom_
 bg='#b5123e' custom_font='#ffffff' av_uid='' id='' custom_class='' admin_pr
 eview_bg='']</p>
CATEGORIES:Recht interdisziplinär
LOCATION:Inland
GEO:0.000000;0.000000
ORGANIZER;CN="ViFa-Recht":MAILTO:vifa-recht@sbb.spk-berlin.de
URL;VALUE=URI:https://events.intrecht.de/termine/termin/seventh-esclh-europ
 ean-society-for-comparative-legal-history-biennial-conference/
END:VEVENT
BEGIN:VTIMEZONE
TZID:Europe/Berlin
BEGIN:DAYLIGHT
TZOFFSETFROM:+0100
TZOFFSETTO:+0200
DTSTART:20230326T010000
TZNAME:CEST
END:DAYLIGHT
END:VTIMEZONE
END:VCALENDAR
