BEGIN:VCALENDAR
VERSION:2.0
PRODID:-//Events | FID-Recht//NONSGML Events//EN
CALSCALE:GREGORIAN
X-ORIGINAL-URL:https://events.intrecht.de/termine/
X-WR-CALDESC:Events | FID-Recht - Events
BEGIN:VEVENT
UID:20200602T0258Z-1591066691.9412-EO-557-1@172.16.200.141
STATUS:CONFIRMED
DTSTAMP:20260421T164242Z
CREATED:20200515T161647Z
LAST-MODIFIED:20200520T072508Z
DTSTART;VALUE=DATE:20200515
DTEND;VALUE=DATE:20200517
SUMMARY: Separated Beds – Interwoven Property: Divorce in Context – 1600-19
 00 (Konferenz)
DESCRIPTION: VERSCHOBEN: 15.-16.5.2020\, Wien  – NEUER TERMIN: noch nicht b
 ekanntgegeben https://www.univie.ac.at/ehenvorgericht/?page_id=1221  
X-ALT-DESC;FMTTYPE=text/html: <p>VERSCHOBEN:</p><p>15.-16.5.2020\, Wien  – 
 NEUER TERMIN: noch nicht bekanntgegeben</p><p><a href="https://www.univie.a
 c.at/ehenvorgericht/?page_id=1221">https://www.univie.ac.at/ehenvorgericht/
 ?page_id=1221</a></p><p> </p><p>[av_button label='iCal-Export' link='./feed
 /eo-events' link_target='' size='small' position='center' label_display='' 
 title_attr='' icon_select='yes' icon='ue85b' font='entypo-fontello' color='
 custom' custom_bg='#b5123e' custom_font='#ffffff' av_uid='' id='' custom_cl
 ass='' admin_preview_bg='']</p>
CATEGORIES:Recht interdisziplinär,Zivilrecht
LOCATION:Ausland
GEO:0.000000;0.000000
ORGANIZER;CN="ViFa-Recht":MAILTO:vifa-recht@sbb.spk-berlin.de
URL;VALUE=URI:https://events.intrecht.de/termine/termin/separated-beds-inte
 rwoven-property-divorce-in-context-1600-1900-konferenz/
END:VEVENT
BEGIN:VTIMEZONE
TZID:Europe/Berlin
BEGIN:DAYLIGHT
TZOFFSETFROM:+0100
TZOFFSETTO:+0200
DTSTART:20200329T010000
TZNAME:CEST
END:DAYLIGHT
END:VTIMEZONE
END:VCALENDAR
