BEGIN:VCALENDAR
VERSION:2.0
PRODID:-//Events | FID-Recht//NONSGML Events//EN
CALSCALE:GREGORIAN
X-ORIGINAL-URL:https://events.intrecht.de/termine/
X-WR-CALDESC:Events | FID-Recht - Events
BEGIN:VEVENT
UID:20210201T2018Z-1612210729.0237-EO-2533-1@172.16.200.141
STATUS:CONFIRMED
DTSTAMP:20260421T133528Z
CREATED:20210126T125106Z
LAST-MODIFIED:20210126T125106Z
DTSTART;VALUE=DATE:20210127
DTEND;VALUE=DATE:20210127
SUMMARY: Selections from “The Making of Modern Property – Reinventing Roman
  Law in Nineteenth Century Europe and Its Periphery” (with Anna di Robilant
 ) (Online-Workshop)
DESCRIPTION: 27.1.2021\, Online https://www.law.columbia.edu/faculty-schola
 rship/workshops-and-colloquia/legal-history-workshop-events  
X-ALT-DESC;FMTTYPE=text/html: <p>27.1.2021\, Online</p><p><a href="https://
 www.law.columbia.edu/faculty-scholarship/workshops-and-colloquia/legal-hist
 ory-workshop-events">https://www.law.columbia.edu/faculty-scholarship/works
 hops-and-colloquia/legal-history-workshop-events</a></p><p> </p><p>[av_butt
 on label='iCal-Export' link='./feed/eo-events' link_target='' size='small' 
 position='center' label_display='' title_attr='' icon_select='yes' icon='ue
 85b' font='entypo-fontello' color='custom' custom_bg='#b5123e' custom_font=
 '#ffffff' av_uid='' id='' custom_class='' admin_preview_bg='']</p>
CATEGORIES:Recht interdisziplinär,Zivilrecht
LOCATION:Online
GEO:0.000000;0.000000
ORGANIZER;CN="ViFa-Recht":MAILTO:vifa-recht@sbb.spk-berlin.de
URL;VALUE=URI:https://events.intrecht.de/termine/termin/selections-from-the
 -making-of-modern-property-reinventing-roman-law-in-nineteenth-century-euro
 pe-and-its-periphery-with-anna-di-robilant-online-workshop/
END:VEVENT
BEGIN:VTIMEZONE
TZID:Europe/Berlin
BEGIN:STANDARD
TZOFFSETFROM:+0200
TZOFFSETTO:+0100
DTSTART:20201025T010000
TZNAME:CET
END:STANDARD
END:VTIMEZONE
END:VCALENDAR
