BEGIN:VCALENDAR
VERSION:2.0
PRODID:-//Events | FID-Recht//NONSGML Events//EN
CALSCALE:GREGORIAN
X-ORIGINAL-URL:https://events.intrecht.de/termine/
X-WR-CALDESC:Events | FID-Recht - Events
BEGIN:VEVENT
UID:20200603T1418Z-1591193923.3362-EO-587-1@172.16.200.141
STATUS:CONFIRMED
DTSTAMP:20260423T003259Z
CREATED:20241002T154341Z
LAST-MODIFIED:20241002T154341Z
DTSTART;VALUE=DATE:20241205
DTEND;VALUE=DATE:20241207
SUMMARY: Sektoralisiertes Unternehmens- und Korruptionsstrafrecht (Tagung)
DESCRIPTION: 5.-6.12.2024 / Augsburg https://www.uni-augsburg.de/de/fakulta
 et/jura/forschung/forschungsstelle-unternehmensstrafrecht/veranstaltungen/u
 nternehmensstrafrechtliche-tage/
X-ALT-DESC;FMTTYPE=text/html: <p>5.-6.12.2024 / Augsburg</p><p><a href="htt
 ps://www.uni-augsburg.de/de/fakultaet/jura/forschung/forschungsstelle-unter
 nehmensstrafrecht/veranstaltungen/unternehmensstrafrechtliche-tage/">https:
 //www.uni-augsburg.de/de/fakultaet/jura/forschung/forschungsstelle-unterneh
 mensstrafrecht/veranstaltungen/unternehmensstrafrechtliche-tage/</a></p><p>
 [av_button label='iCal-Export' link='./feed/eo-events' link_target='' size=
 'small' position='center' label_display='' title_attr='' icon_select='yes' 
 icon='ue85b' font='entypo-fontello' color='custom' custom_bg='#b5123e' cust
 om_font='#ffffff' av_uid='' id='' custom_class='' admin_preview_bg='']</p>
CATEGORIES:Strafrecht
LOCATION:Inland
GEO:0.000000;0.000000
ORGANIZER;CN="ViFa-Recht":MAILTO:vifa-recht@sbb.spk-berlin.de
URL;VALUE=URI:https://events.intrecht.de/termine/termin/sektoralisiertes-un
 ternehmens-und-korruptionsstrafrecht-tagung/
END:VEVENT
BEGIN:VTIMEZONE
TZID:Europe/Berlin
BEGIN:STANDARD
TZOFFSETFROM:+0200
TZOFFSETTO:+0100
DTSTART:20241027T010000
TZNAME:CET
END:STANDARD
END:VTIMEZONE
END:VCALENDAR
