BEGIN:VCALENDAR
VERSION:2.0
PRODID:-//Events | FID-Recht//NONSGML Events//EN
CALSCALE:GREGORIAN
X-ORIGINAL-URL:https://events.intrecht.de/termine/
X-WR-CALDESC:Events | FID-Recht - Events
BEGIN:VEVENT
UID:20220319T2133Z-1647725615.7856-EO-4776-1@172.16.200.141
STATUS:CONFIRMED
DTSTAMP:20260421T102545Z
CREATED:20220316T200325Z
LAST-MODIFIED:20220316T200325Z
DTSTART;VALUE=DATE:20221130
DTEND;VALUE=DATE:20221203
SUMMARY: Seeking Justice – Ideas and Practices from Asia\, Africa\, and the
  Middle East (Tagung)
DESCRIPTION: 30.11.-2.12.2022\, Berlin (Frist für Einreichungen: 31.3.2022)
  https://www.zmo.de/fileadmin/Karriere/Ausschreibungen_2022/CfP_Seeking_Jus
 tice.pdf  
X-ALT-DESC;FMTTYPE=text/html: <p>30.11.-2.12.2022\, Berlin (Frist für Einre
 ichungen: 31.3.2022)</p><p><a href="https://www.zmo.de/fileadmin/Karriere/A
 usschreibungen_2022/CfP_Seeking_Justice.pdf">https://www.zmo.de/fileadmin/K
 arriere/Ausschreibungen_2022/CfP_Seeking_Justice.pdf</a></p><p> </p><p>[av_
 button label='iCal-Export' link='./feed/eo-events' link_target='' size='sma
 ll' position='center' label_display='' title_attr='' icon_select='yes' icon
 ='ue85b' font='entypo-fontello' color='custom' custom_bg='#b5123e' custom_f
 ont='#ffffff' av_uid='' id='' custom_class='' admin_preview_bg='']</p>
CATEGORIES:Europäisches / Internationales Recht,Recht interdisziplinär
LOCATION:Inland
GEO:0.000000;0.000000
ORGANIZER;CN="ViFa-Recht":MAILTO:vifa-recht@sbb.spk-berlin.de
URL;VALUE=URI:https://events.intrecht.de/termine/termin/seeking-justice-ide
 as-and-practices-from-asia-africa-and-the-middle-east-tagung-2/
END:VEVENT
BEGIN:VTIMEZONE
TZID:Europe/Berlin
BEGIN:STANDARD
TZOFFSETFROM:+0200
TZOFFSETTO:+0100
DTSTART:20221030T010000
TZNAME:CET
END:STANDARD
END:VTIMEZONE
END:VCALENDAR
