BEGIN:VCALENDAR
VERSION:2.0
PRODID:-//Events | FID-Recht//NONSGML Events//EN
CALSCALE:GREGORIAN
X-ORIGINAL-URL:https://events.intrecht.de/termine/
X-WR-CALDESC:Events | FID-Recht - Events
BEGIN:VEVENT
UID:20200602T0945Z-1591091115.9737-EO-599-1@172.16.200.141
STATUS:CONFIRMED
DTSTAMP:20260423T035132Z
CREATED:20251029T095447Z
LAST-MODIFIED:20251029T095447Z
DTSTART;VALUE=DATE:20251120
DTEND;VALUE=DATE:20251121
SUMMARY: Seeing like a Region – The Regional Re-Ordering of International L
 aw (Walther Schücking Lecture)
DESCRIPTION: 20.11.2025 / Kiel https://www.uni-kiel.de/de/jura/forschung/ws
 i/veranstaltungen/walther-schuecking-lecture
X-ALT-DESC;FMTTYPE=text/html: <p>20.11.2025 / Kiel</p><p><a href="https://w
 ww.uni-kiel.de/de/jura/forschung/wsi/veranstaltungen/walther-schuecking-lec
 ture">https://www.uni-kiel.de/de/jura/forschung/wsi/veranstaltungen/walther
 -schuecking-lecture</a></p><p>[av_button label='iCal-Export' link='./feed/e
 o-events' link_target='' size='small' position='center' label_display='' ti
 tle_attr='' icon_select='yes' icon='ue85b' font='entypo-fontello' color='cu
 stom' custom_bg='#b5123e' custom_font='#ffffff' av_uid='' id='' custom_clas
 s='' admin_preview_bg='']</p>
CATEGORIES:Europäisches / Internationales Recht
LOCATION:Inland
GEO:0.000000;0.000000
ORGANIZER;CN="ViFa-Recht":MAILTO:vifa-recht@sbb.spk-berlin.de
URL;VALUE=URI:https://events.intrecht.de/termine/termin/seeing-like-a-regio
 n-the-regional-re-ordering-of-international-law-walther-schuecking-lecture/
END:VEVENT
BEGIN:VTIMEZONE
TZID:Europe/Berlin
BEGIN:STANDARD
TZOFFSETFROM:+0200
TZOFFSETTO:+0100
DTSTART:20251026T010000
TZNAME:CET
END:STANDARD
END:VTIMEZONE
END:VCALENDAR
