BEGIN:VCALENDAR
VERSION:2.0
PRODID:-//Events | FID-Recht//NONSGML Events//EN
CALSCALE:GREGORIAN
X-ORIGINAL-URL:https://events.intrecht.de/termine/
X-WR-CALDESC:Events | FID-Recht - Events
BEGIN:VEVENT
UID:20220221T0448Z-1645418934.8685-EO-5982-1@172.16.200.141
STATUS:CONFIRMED
DTSTAMP:20260421T170306Z
CREATED:20220218T091112Z
LAST-MODIFIED:20220218T091112Z
DTSTART;VALUE=DATE:20220301
DTEND;VALUE=DATE:20220302
SUMMARY: Security for Costs and Access to Justice in Cross-Border Dispute R
 esolution (with Geneviève Saumier) (Online-Vortrag)
DESCRIPTION: 1.3.2022\, Online IPR: Prof. Geneviève Saumier (mpipriv.de)  
X-ALT-DESC;FMTTYPE=text/html: <p>1.3.2022\, Online</p><p><a href="https://e
 vents.mpipriv.de/pilworkshopprofsaumier">IPR: Prof. Geneviève Saumier (mpip
 riv.de)</a></p><p> </p><p>[av_button label='iCal-Export' link='./feed/eo-ev
 ents' link_target='' size='small' position='center' label_display='' title_
 attr='' icon_select='yes' icon='ue85b' font='entypo-fontello' color='custom
 ' custom_bg='#b5123e' custom_font='#ffffff' av_uid='' id='' custom_class=''
  admin_preview_bg='']</p>
CATEGORIES:Zivilrecht
LOCATION:Online
GEO:0.000000;0.000000
ORGANIZER;CN="ViFa-Recht":MAILTO:vifa-recht@sbb.spk-berlin.de
URL;VALUE=URI:https://events.intrecht.de/termine/termin/security-for-costs-
 and-access-to-justice-in-cross-border-dispute-resolution-with-genevieve-sau
 mier-online-vortrag/
END:VEVENT
BEGIN:VTIMEZONE
TZID:Europe/Berlin
BEGIN:STANDARD
TZOFFSETFROM:+0200
TZOFFSETTO:+0100
DTSTART:20211031T010000
TZNAME:CET
END:STANDARD
END:VTIMEZONE
END:VCALENDAR
