BEGIN:VCALENDAR
VERSION:2.0
PRODID:-//Events | FID-Recht//NONSGML Events//EN
CALSCALE:GREGORIAN
X-ORIGINAL-URL:https://events.intrecht.de/termine/
X-WR-CALDESC:Events | FID-Recht - Events
BEGIN:VEVENT
UID:20200603T1418Z-1591193923.3362-EO-587-1@172.16.200.141
STATUS:CONFIRMED
DTSTAMP:20260425T234548Z
CREATED:20230628T093206Z
LAST-MODIFIED:20230628T093206Z
DTSTART;VALUE=DATE:20231016
DTEND;VALUE=DATE:20231017
SUMMARY: Second Conference of the Western Sahara Research Group
DESCRIPTION: 16.10.2023 / Bologna (Frist für Einreichungen: 30.7.2023) http
 s://drive.google.com/file/d/18ObtQhvLkTA7fEM6i7lcEGYWCh9-kMI9/view
X-ALT-DESC;FMTTYPE=text/html: <p>16.10.2023 / Bologna <strong>(Frist für Ei
 nreichungen: 30.7.2023)</strong></p><p><a href="https://drive.google.com/fi
 le/d/18ObtQhvLkTA7fEM6i7lcEGYWCh9-kMI9/view">https://drive.google.com/file/
 d/18ObtQhvLkTA7fEM6i7lcEGYWCh9-kMI9/view</a></p><p>[av_button label='iCal-E
 xport' link='./feed/eo-events' link_target='' size='small' position='center
 ' label_display='' title_attr='' icon_select='yes' icon='ue85b' font='entyp
 o-fontello' color='custom' custom_bg='#b5123e' custom_font='#ffffff' av_uid
 ='' id='' custom_class='' admin_preview_bg='']</p>
CATEGORIES:Europäisches / Internationales Recht
LOCATION:Ausland
GEO:0.000000;0.000000
ORGANIZER;CN="ViFa-Recht":MAILTO:vifa-recht@sbb.spk-berlin.de
URL;VALUE=URI:https://events.intrecht.de/termine/termin/second-conference-o
 f-the-western-sahara-research-group/
END:VEVENT
BEGIN:VTIMEZONE
TZID:Europe/Berlin
BEGIN:DAYLIGHT
TZOFFSETFROM:+0100
TZOFFSETTO:+0200
DTSTART:20230326T010000
TZNAME:CEST
END:DAYLIGHT
END:VTIMEZONE
END:VCALENDAR
