BEGIN:VCALENDAR
VERSION:2.0
PRODID:-//Events | FID-Recht//NONSGML Events//EN
CALSCALE:GREGORIAN
X-ORIGINAL-URL:https://events.intrecht.de/termine/
X-WR-CALDESC:Events | FID-Recht - Events
BEGIN:VEVENT
UID:20221014T0241Z-1665715264.4054-EO-6591-1@172.16.200.151
STATUS:CONFIRMED
DTSTAMP:20260421T102851Z
CREATED:20221012T071653Z
LAST-MODIFIED:20221012T071653Z
DTSTART;VALUE=DATE:20221103
DTEND;VALUE=DATE:20221104
SUMMARY: Sechste Walther Schücking Lecture zum Thema: Fairness in the law o
 f the sea\, and the quest for inclusion
DESCRIPTION: 3.11.2022\, Kiel https://www.wsi.uni-kiel.de/de/veranstaltunge
 n/walther-schuecking-lecture/archiv/6-walther-schuecking-lecture  
X-ALT-DESC;FMTTYPE=text/html: <p>3.11.2022\, Kiel</p><p><a href="https://ww
 w.wsi.uni-kiel.de/de/veranstaltungen/walther-schuecking-lecture/archiv/6-wa
 lther-schuecking-lecture">https://www.wsi.uni-kiel.de/de/veranstaltungen/wa
 lther-schuecking-lecture/archiv/6-walther-schuecking-lecture</a></p><p> </p
 ><p>[av_button label='iCal-Export' link='./feed/eo-events' link_target='' s
 ize='small' position='center' label_display='' title_attr='' icon_select='y
 es' icon='ue85b' font='entypo-fontello' color='custom' custom_bg='#b5123e' 
 custom_font='#ffffff' av_uid='' id='' custom_class='' admin_preview_bg='']<
 /p>
CATEGORIES:Europäisches / Internationales Recht
LOCATION:Inland
GEO:0.000000;0.000000
ORGANIZER;CN="ViFa-Recht":MAILTO:vifa-recht@sbb.spk-berlin.de
URL;VALUE=URI:https://events.intrecht.de/termine/termin/sechste-walther-sch
 uecking-lecture-zum-thema-fairness-in-the-law-of-the-sea-and-the-quest-for-
 inclusion/
END:VEVENT
BEGIN:VTIMEZONE
TZID:Europe/Berlin
BEGIN:STANDARD
TZOFFSETFROM:+0200
TZOFFSETTO:+0100
DTSTART:20221030T010000
TZNAME:CET
END:STANDARD
END:VTIMEZONE
END:VCALENDAR
