BEGIN:VCALENDAR
VERSION:2.0
PRODID:-//Events | FID-Recht//NONSGML Events//EN
CALSCALE:GREGORIAN
X-ORIGINAL-URL:https://events.intrecht.de/termine/
X-WR-CALDESC:Events | FID-Recht - Events
BEGIN:VEVENT
UID:20200603T1418Z-1591193923.3362-EO-587-1@172.16.200.141
STATUS:CONFIRMED
DTSTAMP:20260422T141541Z
CREATED:20240229T114640Z
LAST-MODIFIED:20240229T114640Z
DTSTART;VALUE=DATE:20240827
DTEND;VALUE=DATE:20240901
SUMMARY: Searching for International Relations: Spaces\, Styles\, Struggles
  (17th EISA Pan-European Conference on International Relations (PEC))
DESCRIPTION: 27.-31.8.2024 / Lille (Einreichungsfrist: 13.3.2024) https://p
 ec2024.eisa-net.org/
X-ALT-DESC;FMTTYPE=text/html: <p>27.-31.8.2024 / Lille <strong>(Einreichung
 sfrist: 13.3.2024)</strong></p><p><a href="https://pec2024.eisa-net.org/">h
 ttps://pec2024.eisa-net.org/</a></p><p>[av_button label='iCal-Export' link=
 './feed/eo-events' link_target='' size='small' position='center' label_disp
 lay='' title_attr='' icon_select='yes' icon='ue85b' font='entypo-fontello' 
 color='custom' custom_bg='#b5123e' custom_font='#ffffff' av_uid='' id='' cu
 stom_class='' admin_preview_bg='']</p>
CATEGORIES:Recht interdisziplinär
LOCATION:Ausland
GEO:0.000000;0.000000
ORGANIZER;CN="ViFa-Recht":MAILTO:vifa-recht@sbb.spk-berlin.de
URL;VALUE=URI:https://events.intrecht.de/termine/termin/searching-for-inter
 national-relations-spaces-styles-struggles-17th-eisa-pan-european-conferenc
 e-on-international-relations-pec/
END:VEVENT
BEGIN:VTIMEZONE
TZID:Europe/Berlin
BEGIN:DAYLIGHT
TZOFFSETFROM:+0100
TZOFFSETTO:+0200
DTSTART:20240331T010000
TZNAME:CEST
END:DAYLIGHT
END:VTIMEZONE
END:VCALENDAR
