BEGIN:VCALENDAR
VERSION:2.0
PRODID:-//Events | FID-Recht//NONSGML Events//EN
CALSCALE:GREGORIAN
X-ORIGINAL-URL:https://events.intrecht.de/termine/
X-WR-CALDESC:Events | FID-Recht - Events
BEGIN:VEVENT
UID:20200603T1418Z-1591193923.3362-EO-587-1@172.16.200.141
STATUS:CONFIRMED
DTSTAMP:20260425T123044Z
CREATED:20230323T094747Z
LAST-MODIFIED:20230323T094747Z
DTSTART;VALUE=DATE:20230424
DTEND;VALUE=DATE:20230426
SUMMARY: Schutz der finanziellen Interessen der EU: Workshop zu den neueste
 n Forschungsarbeiten zur Betrugsbekämpfung (Workshop)
DESCRIPTION: 24.-25.4.2023 / Freiburg https://csl.mpg.de/de/workshop-eu-bet
 rugsbekaempfung-april23.html
X-ALT-DESC;FMTTYPE=text/html: <p>24.-25.4.2023 / Freiburg</p><p><a href="ht
 tps://csl.mpg.de/de/workshop-eu-betrugsbekaempfung-april23.html">https://cs
 l.mpg.de/de/workshop-eu-betrugsbekaempfung-april23.html</a></p><p>[av_butto
 n label='iCal-Export' link='./feed/eo-events' link_target='' size='small' p
 osition='center' label_display='' title_attr='' icon_select='yes' icon='ue8
 5b' font='entypo-fontello' color='custom' custom_bg='#b5123e' custom_font='
 #ffffff' av_uid='' id='' custom_class='' admin_preview_bg='']</p>
CATEGORIES:Europäisches / Internationales Recht
LOCATION:Inland
GEO:0.000000;0.000000
ORGANIZER;CN="ViFa-Recht":MAILTO:vifa-recht@sbb.spk-berlin.de
URL;VALUE=URI:https://events.intrecht.de/termine/termin/schutz-der-finanzie
 llen-interessen-der-eu-workshop-zu-den-neuesten-forschungsarbeiten-zur-betr
 ugsbekaempfung-workshop/
END:VEVENT
BEGIN:VTIMEZONE
TZID:Europe/Berlin
BEGIN:DAYLIGHT
TZOFFSETFROM:+0100
TZOFFSETTO:+0200
DTSTART:20230326T010000
TZNAME:CEST
END:DAYLIGHT
END:VTIMEZONE
END:VCALENDAR
